BEGIN:VCALENDAR
VERSION:2.0
PRODID:-//Oscar Carl Vineyard - ECPv6.15.20//NONSGML v1.0//EN
CALSCALE:GREGORIAN
METHOD:PUBLISH
X-WR-CALNAME:Oscar Carl Vineyard
X-ORIGINAL-URL:https://oscarcarlvineyard.com
X-WR-CALDESC:Events for Oscar Carl Vineyard
REFRESH-INTERVAL;VALUE=DURATION:PT1H
X-Robots-Tag:noindex
X-PUBLISHED-TTL:PT1H
BEGIN:VTIMEZONE
TZID:America/Chicago
BEGIN:DAYLIGHT
TZOFFSETFROM:-0600
TZOFFSETTO:-0500
TZNAME:CDT
DTSTART:20250309T080000
END:DAYLIGHT
BEGIN:STANDARD
TZOFFSETFROM:-0500
TZOFFSETTO:-0600
TZNAME:CST
DTSTART:20251102T070000
END:STANDARD
BEGIN:DAYLIGHT
TZOFFSETFROM:-0600
TZOFFSETTO:-0500
TZNAME:CDT
DTSTART:20260308T080000
END:DAYLIGHT
BEGIN:STANDARD
TZOFFSETFROM:-0500
TZOFFSETTO:-0600
TZNAME:CST
DTSTART:20261101T070000
END:STANDARD
BEGIN:DAYLIGHT
TZOFFSETFROM:-0600
TZOFFSETTO:-0500
TZNAME:CDT
DTSTART:20270314T080000
END:DAYLIGHT
BEGIN:STANDARD
TZOFFSETFROM:-0500
TZOFFSETTO:-0600
TZNAME:CST
DTSTART:20271107T070000
END:STANDARD
END:VTIMEZONE
BEGIN:VEVENT
DTSTART;TZID=America/Chicago:20260213T180000
DTEND;TZID=America/Chicago:20260213T200000
DTSTAMP:20260423T162759
CREATED:20260212T022209Z
LAST-MODIFIED:20260213T140304Z
UID:4099-1771005600-1771012800@oscarcarlvineyard.com
SUMMARY:Galentine's Shimmer & Soul Social 2.13.2026 **CANCELLED**
DESCRIPTION:Galentine’s Shimmer & Soul Social **CANCELLED**\nForget the superstitions of Friday the 13th—we’re reclaiming the night for a different kind of glow. This Galentine’s\, join us for The Shimmer & Soul Social\, an evening dedicated to the Spark of Friendship – a celebration of those rare women who bring light into our darkest days and turn the ordinary into something brilliant just by being there. \nWhen you arrive and enter the cozy Galentine-ready Vineyard View\, you’ll choose your first glass of one of our signature wines\, your Keepsake Stir Stick\, and your own Shaker of Edible Glitter. Throughout the night\, we’ll guide you through “The Three Stirs”—intentional moments to swirl luster dust into your glass\, creating a shimmering glow while you “stir up” the stories and shared history that keep your inner circle bright. \nAt 7:00 PM\, the room will dim for a candlelit reading of our Shimmer Script: The Spark of a Familiar Friend\, followed by a room-wide collective stir to celebrate the women who keep our fires burning. \nYour Ticket Includes: \n\n✨ Two Shimmering Pours: Oscar Carl Vineyard award-winning wine enhanced with your choice of edible luster dust.\n🪄 The Keepsake: A Galentine’s Stir Stick to take home.\n🧂 The Home Magic: A portable shaker of edible luster glitter to keep your future pours bright.\n🧀 The Galentine’s Grazing Box: A curated spread featuring sweet and savory charcuterie\, edible chocolate-chunk cookie dough\, topped with a lovely pansy blossom.\n📖 The Shimmer Script: A high-quality printed copy of our tribute to friendship.\n\n(Wine Club members save $5/ticket with discount code “LeoJamesWineClub”)
URL:https://oscarcarlvineyard.com/event/galentines-shimmer-soul-social-2-13-2026/
LOCATION:Oscar Carl Vineyard\, 1473 Buchanan Ave\, Sioux City\, IA\, 51106\, United States
CATEGORIES:Galentine's,Ladies Night Out
ATTACH;FMTTYPE=image/jpeg:https://oscarcarlvineyard.com/wp-content/uploads/2026/02/20260204_190334-scaled.jpg
END:VEVENT
BEGIN:VEVENT
DTSTART;TZID=America/Chicago:20260214T180000
DTEND;TZID=America/Chicago:20260214T200000
DTSTAMP:20260423T162759
CREATED:20260124T173913Z
LAST-MODIFIED:20260213T140129Z
UID:4027-1771092000-1771099200@oscarcarlvineyard.com
SUMMARY:Valentine's Day Romantic 3-Course Italian Dinner *SOLD OUT* at Oscar Carl Vineyard
DESCRIPTION:Experience the romance of a 3-course Italian dinner paired with wine for you and your sweetheart in the cozy Vineyard View of Oscar Carl. \nExperience the transformation of Oscar Carl’s lower level Vineyard View into a romantic Italian bistro\, complete with candlelight and tablecloths\, Chiavari chairs\, and classic violin music. A fresh Italian meal served to your table\, where you and your sweetheart are seated\, looking lovingly into each other’s eyes. Cheers to love\, good food and great wine! \nWhen you arrive and are escorted to your table\, you’ll choose your wine – 2 glasses\, a flight\, or a bottle to share with your sweetheart.* (Beer\, spirits or N/A substitutions are available.) Choose between marinara with meatballs and pasta or chicken fettucine alfredo\, prepared and served by Aggie’s amazing team. Each meal comes with an Italian garden salad and garlic breadsticks\, and finishes with a decadent Italian dessert – tiramisu. Bene! \nIf you are attending with other couples\, just message or call so we can seat you as you prefer. Tables for 2\, 4\, or 6 are available. \n*Each ticket is for one meal\, plus 2 glasses of wine or a flight. “Bottle to share” is perfect if you and your sweetheart like the same wine. (If you don’t drink it all\, you can take the rest home with you in a sealed bag.) One bottle is equivalent to 4 glasses\, so a bottle serves 2 tickets. \n(Leo James Wine Club members enter promo code “LeoJamesWineClub” to save $5/ticket!) \nClick here for tickets and more information. Cheers!
URL:https://oscarcarlvineyard.com/event/valentines-day-romantic-3-course-italian-dinner-at-oscar-carl-vineyard/
LOCATION:Oscar Carl Vineyard\, 1473 Buchanan Ave\, Sioux City\, IA\, 51106\, United States
CATEGORIES:3-Course Dinner,Wine & Dinner
ATTACH;FMTTYPE=image/png:https://oscarcarlvineyard.com/wp-content/uploads/2026/01/Valentines-Dinner-Square-2026.png
END:VEVENT
END:VCALENDAR