BEGIN:VCALENDAR
VERSION:2.0
PRODID:-//Oscar Carl Vineyard - ECPv6.15.20//NONSGML v1.0//EN
CALSCALE:GREGORIAN
METHOD:PUBLISH
X-ORIGINAL-URL:https://oscarcarlvineyard.com
X-WR-CALDESC:Events for Oscar Carl Vineyard
REFRESH-INTERVAL;VALUE=DURATION:PT1H
X-Robots-Tag:noindex
X-PUBLISHED-TTL:PT1H
BEGIN:VTIMEZONE
TZID:America/Chicago
BEGIN:DAYLIGHT
TZOFFSETFROM:-0600
TZOFFSETTO:-0500
TZNAME:CDT
DTSTART:20220313T080000
END:DAYLIGHT
BEGIN:STANDARD
TZOFFSETFROM:-0500
TZOFFSETTO:-0600
TZNAME:CST
DTSTART:20221106T070000
END:STANDARD
BEGIN:DAYLIGHT
TZOFFSETFROM:-0600
TZOFFSETTO:-0500
TZNAME:CDT
DTSTART:20230312T080000
END:DAYLIGHT
BEGIN:STANDARD
TZOFFSETFROM:-0500
TZOFFSETTO:-0600
TZNAME:CST
DTSTART:20231105T070000
END:STANDARD
BEGIN:DAYLIGHT
TZOFFSETFROM:-0600
TZOFFSETTO:-0500
TZNAME:CDT
DTSTART:20240310T080000
END:DAYLIGHT
BEGIN:STANDARD
TZOFFSETFROM:-0500
TZOFFSETTO:-0600
TZNAME:CST
DTSTART:20241103T070000
END:STANDARD
END:VTIMEZONE
BEGIN:VEVENT
DTSTART;TZID=America/Chicago:20230830T170000
DTEND;TZID=America/Chicago:20230830T210000
DTSTAMP:20260425T150902
CREATED:20230814T221210Z
LAST-MODIFIED:20230821T171647Z
UID:2746-1693414800-1693429200@oscarcarlvineyard.com
SUMMARY:Five Course Wine Pairing - French Creole Tour by Chef Clay & Vintner Roy 8.30.2023
DESCRIPTION:Purchase your tickets here! \nJoin us for a delightful evening of exquisite flavors and enchanting wines as Chef Clay and Vintner Roy take you on a French Creole Tour. Indulge in a five-course culinary journey that combines the rich and vibrant flavors of French and Creole cuisines. \nEmbrace this unique opportunity to savor the fusion of flavors created by Chef Clay as he presents his artfully plated culinary masterpieces. Experience the art of wine pairing as Vintner Roy presents the perfect Oscar Carl Vineyard wines to complement each course. From the tantalizing taste of Cajun Carpaccio to the iconic and delectable Café Du Monde Beignets\, every bite will transport you to the heart of French Creole culture. \nDate: Wednesday\, August 30\, 2023 (rescheduled from August 23rd) \nTime: 5PM Seating/Social Hour | 6PM Service \nLocation: Oscar Carl Vineyard – Vineyard View\, 1473 Buchanan Avenue\, Sioux City\, IA 51106 \nMingle with fellow food and wine enthusiasts\, and gain insights from Chef Clay and Vintner Roy themselves. Immerse yourself in the charming ambiance of the Vineyard View at Oscar Carl Vineyard. Don’t miss out on this unforgettable culinary adventure! \nSpaces are limited\, so make sure to secure your spot for this exclusive event.
URL:https://oscarcarlvineyard.com/event/five-course-wine-pairing-french-creole-tour-by-chef-clay-vintner-roy/
LOCATION:Oscar Carl Vineyard\, 1473 Buchanan Ave\, Sioux City\, IA\, 51106\, United States
ATTACH;FMTTYPE=image/jpeg:https://oscarcarlvineyard.com/wp-content/uploads/2023/08/SMASH-5-Course-French-Creole-Meal-8.30.2023.xlsx.jpg
END:VEVENT
END:VCALENDAR