BEGIN:VCALENDAR
VERSION:2.0
PRODID:-//Oscar Carl Vineyard - ECPv6.15.20//NONSGML v1.0//EN
CALSCALE:GREGORIAN
METHOD:PUBLISH
X-ORIGINAL-URL:https://oscarcarlvineyard.com
X-WR-CALDESC:Events for Oscar Carl Vineyard
REFRESH-INTERVAL;VALUE=DURATION:PT1H
X-Robots-Tag:noindex
X-PUBLISHED-TTL:PT1H
BEGIN:VTIMEZONE
TZID:America/Chicago
BEGIN:DAYLIGHT
TZOFFSETFROM:-0600
TZOFFSETTO:-0500
TZNAME:CDT
DTSTART:20250309T080000
END:DAYLIGHT
BEGIN:STANDARD
TZOFFSETFROM:-0500
TZOFFSETTO:-0600
TZNAME:CST
DTSTART:20251102T070000
END:STANDARD
BEGIN:DAYLIGHT
TZOFFSETFROM:-0600
TZOFFSETTO:-0500
TZNAME:CDT
DTSTART:20260308T080000
END:DAYLIGHT
BEGIN:STANDARD
TZOFFSETFROM:-0500
TZOFFSETTO:-0600
TZNAME:CST
DTSTART:20261101T070000
END:STANDARD
BEGIN:DAYLIGHT
TZOFFSETFROM:-0600
TZOFFSETTO:-0500
TZNAME:CDT
DTSTART:20270314T080000
END:DAYLIGHT
BEGIN:STANDARD
TZOFFSETFROM:-0500
TZOFFSETTO:-0600
TZNAME:CST
DTSTART:20271107T070000
END:STANDARD
END:VTIMEZONE
BEGIN:VEVENT
DTSTART;TZID=America/Chicago:20260322T140000
DTEND;TZID=America/Chicago:20260322T160000
DTSTAMP:20260423T172433
CREATED:20260301T194216Z
LAST-MODIFIED:20260315T152009Z
UID:4155-1774188000-1774195200@oscarcarlvineyard.com
SUMMARY:Puzzle Madness: The 500-Piece Race 3.22.2026
DESCRIPTION:Think your squad has the fastest hands in the valley? Put your skills to the test at the 1st Annual Puzzle Madness Tournament! \nOn Sunday\, March 22nd\, (rescheduled from March 15th) Oscar Carl Vineyard is trading the basketball court for the puzzle board. We’ve selected a fun\, high-energy 500-Piece Puzzle for our first-ever tournament. The catch? You won’t know what you’re building until the whistle blows! \nThe Game Plan: \n\nThe Mystery: The puzzle box remains hidden until the timer starts. No peeking!\nThe Clock: Your squad has 2 hours to complete the puzzle.\nThe Prize: The first team to finish (or the team with the fewest pieces left at the buzzer) wins $100 CASH on the spot!\nThe Takeaway: Every team gets to keep their tournament puzzle to take home.\n\nTournament Details: \n\nWhen: Sunday\, March 22nd\nWhere: The Vineyard View at Oscar Carl Vineyard\nTickets: $25 per Squad (Only one ticket needed per team!)\n\nThe Rules of the “Court”: \n\nBring Your Own Squad: Form a duo or a full “starting lineup”—team size is up to you!\nSip & Piece: Our Vineyard View bar will be open! Grab a glass of your favorite Oscar Carl wine to fuel your strategy.\nThe Finish Line: To win\, your puzzle must be completely flat and interlocked. First one to shout “CHEERS!” gets the glory.\n\nSpace in the Vineyard View is limited—reserve your team’s table today! Click here to get your team’s ticket!
URL:https://oscarcarlvineyard.com/event/puzzle-madness-the-500-piece-race-3-15-2026/
LOCATION:Oscar Carl Vineyard\, 1473 Buchanan Ave\, Sioux City\, IA\, 51106\, United States
CATEGORIES:Puzzle Competition
ATTACH;FMTTYPE=image/png:https://oscarcarlvineyard.com/wp-content/uploads/2026/03/Colorful-Illustration-Happy-National-Puzzle-Day-Instagram-Post-1.png
END:VEVENT
END:VCALENDAR