BEGIN:VCALENDAR
VERSION:2.0
PRODID:-//Oscar Carl Vineyard - ECPv6.15.20//NONSGML v1.0//EN
CALSCALE:GREGORIAN
METHOD:PUBLISH
X-ORIGINAL-URL:https://oscarcarlvineyard.com
X-WR-CALDESC:Events for Oscar Carl Vineyard
REFRESH-INTERVAL;VALUE=DURATION:PT1H
X-Robots-Tag:noindex
X-PUBLISHED-TTL:PT1H
BEGIN:VTIMEZONE
TZID:America/Chicago
BEGIN:DAYLIGHT
TZOFFSETFROM:-0600
TZOFFSETTO:-0500
TZNAME:CDT
DTSTART:20230312T080000
END:DAYLIGHT
BEGIN:STANDARD
TZOFFSETFROM:-0500
TZOFFSETTO:-0600
TZNAME:CST
DTSTART:20231105T070000
END:STANDARD
BEGIN:DAYLIGHT
TZOFFSETFROM:-0600
TZOFFSETTO:-0500
TZNAME:CDT
DTSTART:20240310T080000
END:DAYLIGHT
BEGIN:STANDARD
TZOFFSETFROM:-0500
TZOFFSETTO:-0600
TZNAME:CST
DTSTART:20241103T070000
END:STANDARD
BEGIN:DAYLIGHT
TZOFFSETFROM:-0600
TZOFFSETTO:-0500
TZNAME:CDT
DTSTART:20250309T080000
END:DAYLIGHT
BEGIN:STANDARD
TZOFFSETFROM:-0500
TZOFFSETTO:-0600
TZNAME:CST
DTSTART:20251102T070000
END:STANDARD
END:VTIMEZONE
BEGIN:VEVENT
DTSTART;TZID=America/Chicago:20240422T170000
DTEND;TZID=America/Chicago:20240422T200000
DTSTAMP:20260425T104332
CREATED:20240418T221533Z
LAST-MODIFIED:20240418T221533Z
UID:3117-1713805200-1713816000@oscarcarlvineyard.com
SUMMARY:Pop-Up Monday Shopping (PMS!) 4.22.2024
DESCRIPTION:One Monday a month\, Oscar Carl is hosting a vendor pop-up from 5-8pm. This is outside of our usual “open” time so it is dedicated to SHOPPING!! Along with wine and socializing\, of course!!! \n“Pop-Up Monday Shopping” or “PMS” for short\, occurs every 21-28 days. This month it’s April 22nd. We’re working hard to build this into a fantastic\, must-attend event\, mixing it up every month so we keep it fresh for everyone! \nSo if you’re a vendor\, message us and we’ll fill you in on what you need to know! If you’re a shopper\, put us on your calendar! And invite your friends! Let’s make PMS something to look forward to!!
URL:https://oscarcarlvineyard.com/event/pop-up-monday-shopping-pms-4-22-2024/
LOCATION:Oscar Carl Vineyard\, 1473 Buchanan Ave\, Sioux City\, IA\, 51106\, United States
CATEGORIES:Ladies Night Out
ATTACH;FMTTYPE=image/png:https://oscarcarlvineyard.com/wp-content/uploads/2024/04/Рop-Up-Monday-Shopping-Announcement-4.22.2024-v2.png
END:VEVENT
END:VCALENDAR