BEGIN:VCALENDAR
VERSION:2.0
PRODID:-//Oscar Carl Vineyard - ECPv6.15.20//NONSGML v1.0//EN
CALSCALE:GREGORIAN
METHOD:PUBLISH
X-WR-CALNAME:Oscar Carl Vineyard
X-ORIGINAL-URL:https://oscarcarlvineyard.com
X-WR-CALDESC:Events for Oscar Carl Vineyard
REFRESH-INTERVAL;VALUE=DURATION:PT1H
X-Robots-Tag:noindex
X-PUBLISHED-TTL:PT1H
BEGIN:VTIMEZONE
TZID:America/Chicago
BEGIN:DAYLIGHT
TZOFFSETFROM:-0600
TZOFFSETTO:-0500
TZNAME:CDT
DTSTART:20220313T080000
END:DAYLIGHT
BEGIN:STANDARD
TZOFFSETFROM:-0500
TZOFFSETTO:-0600
TZNAME:CST
DTSTART:20221106T070000
END:STANDARD
BEGIN:DAYLIGHT
TZOFFSETFROM:-0600
TZOFFSETTO:-0500
TZNAME:CDT
DTSTART:20230312T080000
END:DAYLIGHT
BEGIN:STANDARD
TZOFFSETFROM:-0500
TZOFFSETTO:-0600
TZNAME:CST
DTSTART:20231105T070000
END:STANDARD
BEGIN:DAYLIGHT
TZOFFSETFROM:-0600
TZOFFSETTO:-0500
TZNAME:CDT
DTSTART:20240310T080000
END:DAYLIGHT
BEGIN:STANDARD
TZOFFSETFROM:-0500
TZOFFSETTO:-0600
TZNAME:CST
DTSTART:20241103T070000
END:STANDARD
END:VTIMEZONE
BEGIN:VEVENT
DTSTART;TZID=America/Chicago:20231021T150000
DTEND;TZID=America/Chicago:20231021T183000
DTSTAMP:20260425T091436
CREATED:20230916T234752Z
LAST-MODIFIED:20230916T234752Z
UID:2781-1697900400-1697913000@oscarcarlvineyard.com
SUMMARY:Octoberfest with Sergeant Bluff Farmers Market 10.21.2023
DESCRIPTION:Please join us for adult beverages with Oscar Carl Vineyard\, German food and Bavarian style pretzels and some amazing farmers market vendors! Our first annual event! Oans\, zwoa\, g’suffa! Prost!
URL:https://oscarcarlvineyard.com/event/octoberfest-with-sergeant-bluff-farmers-market-10-21-2023/
LOCATION:Oscar Carl Vineyard\, 1473 Buchanan Ave\, Sioux City\, IA\, 51106\, United States
CATEGORIES:Vendor Fair
ATTACH;FMTTYPE=image/png:https://oscarcarlvineyard.com/wp-content/uploads/2023/09/Octoberfest-10.21.2023.png
END:VEVENT
END:VCALENDAR