BEGIN:VCALENDAR
VERSION:2.0
PRODID:-//Oscar Carl Vineyard - ECPv6.15.20//NONSGML v1.0//EN
CALSCALE:GREGORIAN
METHOD:PUBLISH
X-ORIGINAL-URL:https://oscarcarlvineyard.com
X-WR-CALDESC:Events for Oscar Carl Vineyard
REFRESH-INTERVAL;VALUE=DURATION:PT1H
X-Robots-Tag:noindex
X-PUBLISHED-TTL:PT1H
BEGIN:VTIMEZONE
TZID:America/Chicago
BEGIN:DAYLIGHT
TZOFFSETFROM:-0600
TZOFFSETTO:-0500
TZNAME:CDT
DTSTART:20220313T080000
END:DAYLIGHT
BEGIN:STANDARD
TZOFFSETFROM:-0500
TZOFFSETTO:-0600
TZNAME:CST
DTSTART:20221106T070000
END:STANDARD
BEGIN:DAYLIGHT
TZOFFSETFROM:-0600
TZOFFSETTO:-0500
TZNAME:CDT
DTSTART:20230312T080000
END:DAYLIGHT
BEGIN:STANDARD
TZOFFSETFROM:-0500
TZOFFSETTO:-0600
TZNAME:CST
DTSTART:20231105T070000
END:STANDARD
BEGIN:DAYLIGHT
TZOFFSETFROM:-0600
TZOFFSETTO:-0500
TZNAME:CDT
DTSTART:20240310T080000
END:DAYLIGHT
BEGIN:STANDARD
TZOFFSETFROM:-0500
TZOFFSETTO:-0600
TZNAME:CST
DTSTART:20241103T070000
END:STANDARD
BEGIN:DAYLIGHT
TZOFFSETFROM:-0600
TZOFFSETTO:-0500
TZNAME:CDT
DTSTART:20250309T080000
END:DAYLIGHT
BEGIN:STANDARD
TZOFFSETFROM:-0500
TZOFFSETTO:-0600
TZNAME:CST
DTSTART:20251102T070000
END:STANDARD
BEGIN:DAYLIGHT
TZOFFSETFROM:-0600
TZOFFSETTO:-0500
TZNAME:CDT
DTSTART:20260308T080000
END:DAYLIGHT
BEGIN:STANDARD
TZOFFSETFROM:-0500
TZOFFSETTO:-0600
TZNAME:CST
DTSTART:20261101T070000
END:STANDARD
BEGIN:DAYLIGHT
TZOFFSETFROM:-0600
TZOFFSETTO:-0500
TZNAME:CDT
DTSTART:20270314T080000
END:DAYLIGHT
BEGIN:STANDARD
TZOFFSETFROM:-0500
TZOFFSETTO:-0600
TZNAME:CST
DTSTART:20271107T070000
END:STANDARD
END:VTIMEZONE
BEGIN:VEVENT
DTSTART;TZID=America/Chicago:20260210T173000
DTEND;TZID=America/Chicago:20260210T193000
DTSTAMP:20260423T141204
CREATED:20260205T000823Z
LAST-MODIFIED:20260205T003518Z
UID:4059-1770744600-1770751800@oscarcarlvineyard.com
SUMMARY:*Sold Out* Graze - A Charcuterie Company Presents: "Galentine's Sip & Savor 2.10.2026
DESCRIPTION:**Sold Out**
URL:https://oscarcarlvineyard.com/event/sold-out-graze-a-charcuterie-company-presents-galentines-sip-savor/
LOCATION:Oscar Carl Vineyard\, 1473 Buchanan Ave\, Sioux City\, IA\, 51106\, United States
CATEGORIES:Galentine's,Ladies Night Out,Vendor Fair
ATTACH;FMTTYPE=image/jpeg:https://oscarcarlvineyard.com/wp-content/uploads/2026/02/Graze-Galentines-2.10.2026.jpg
END:VEVENT
BEGIN:VEVENT
DTSTART;TZID=America/Chicago:20241107T160000
DTEND;TZID=America/Chicago:20241107T190000
DTSTAMP:20260423T141204
CREATED:20241101T223655Z
LAST-MODIFIED:20241101T223655Z
UID:3421-1730995200-1731006000@oscarcarlvineyard.com
SUMMARY:Small Business EXPO 11.7.2024
DESCRIPTION:Come check out our booth at the Siouxland Chamber of Commerce Small Business EXPO at the Sioux City Convention Center. Thursday\, November 7th\, from 4-7pm\, booth #59. We’ll be there sampling and selling bottles to-go! We’re a proud member of the Chamber of Commerce and thrilled to be part of this event\, free for you to attend! Cheers!
URL:https://oscarcarlvineyard.com/event/small-business-expo-11-7-2024/
LOCATION:Sioux City Convention Centeer\, Sioux City\, IA\, 51101\, United States
CATEGORIES:Vendor Fair
END:VEVENT
BEGIN:VEVENT
DTSTART;TZID=America/Chicago:20240923T170000
DTEND;TZID=America/Chicago:20240923T200000
DTSTAMP:20260423T141204
CREATED:20240903T235538Z
LAST-MODIFIED:20240903T235538Z
UID:3360-1727110800-1727121600@oscarcarlvineyard.com
SUMMARY:Pop-Up Monday Shopping!! (PMS) 9.23.2024
DESCRIPTION:On a random Monday\, in a random month\, Oscar Carl is hosting a vendor pop-up from 5-8pm. This is outside of our usual “open” time so it is dedicated to SHOPPING!! Along with wine and socializing\, of course!!! \n“Pop-Up Monday Shopping” or “PMS” for short\, sometimes occurs every 21-28 days\, other times it skips a month or two. This month it’s September 23rd.  We’re working hard to build this into a fantastic\, must-attend event\, mixing it up so we keep it fresh for everyone! \nSo if you’re a vendor\, message us and we’ll fill you in on what you need to know! (But beware of scammers posting that we’re looking for more vendors. We don’t charge you to be a vendor\, so please don’t pay to sell here.) If you’re a shopper\, put us on your calendar! And invite your friends! Let’s make PMS something to look forward to!!
URL:https://oscarcarlvineyard.com/event/pop-up-monday-shopping-pms-9-23-2024/
LOCATION:Oscar Carl Vineyard\, 1473 Buchanan Ave\, Sioux City\, IA\, 51106\, United States
CATEGORIES:Ladies Night Out,Vendor Fair
ATTACH;FMTTYPE=image/png:https://oscarcarlvineyard.com/wp-content/uploads/2024/09/Рop-Up-Monday-Shopping-9.23.2024.png
END:VEVENT
BEGIN:VEVENT
DTSTART;TZID=America/Chicago:20240520T170000
DTEND;TZID=America/Chicago:20240520T200000
DTSTAMP:20260423T141204
CREATED:20240516T165646Z
LAST-MODIFIED:20240516T165734Z
UID:3201-1716224400-1716235200@oscarcarlvineyard.com
SUMMARY:Pop-Up Monday Shopping (PMS) 5.20.2024
DESCRIPTION:One Monday a month\, Oscar Carl is hosting a vendor pop-up from 5-8pm. This is outside of our usual “open” time so it is dedicated to SHOPPING!! Along with wine and socializing\, of course!!! \n“Pop-Up Monday Shopping” or “PMS” for short\, occurs every 21-28 days. This month it’s May 20th.  We’re working hard to build this into a fantastic\, must-attend event\, mixing it up every month so we keep it fresh for everyone! \nSo if you’re a vendor\, message us and we’ll fill you in on what you need to know! (But beware of scammers posting that we’re looking for more vendors. Be sure you’re talking to Melanie or Kalin at Oscar Carl.) If you’re a shopper\, put us on your calendar! And invite your friends! Let’s make PMS something to look forward to!!
URL:https://oscarcarlvineyard.com/event/pop-up-monday-shopping-pms-5-20-2024/
LOCATION:Oscar Carl Vineyard\, 1473 Buchanan Ave\, Sioux City\, IA\, 51106\, United States
CATEGORIES:Ladies Night Out,Vendor Fair
ATTACH;FMTTYPE=image/png:https://oscarcarlvineyard.com/wp-content/uploads/2024/05/Рop-Up-Monday-Shopping-5.20.2024-Ad.png
END:VEVENT
BEGIN:VEVENT
DTSTART;TZID=America/Chicago:20231130T170000
DTEND;TZID=America/Chicago:20231130T200000
DTSTAMP:20260423T141204
CREATED:20231116T174213Z
LAST-MODIFIED:20231116T174213Z
UID:2842-1701363600-1701374400@oscarcarlvineyard.com
SUMMARY:Sip & Savor Holiday Vendor Event 11.30.2023
DESCRIPTION:Spend the evening shopping local vendors and sipping on your favorite Oscar Carl Vineyard wines! Hosted by Graze – A Charcuterie Company. Cheers!
URL:https://oscarcarlvineyard.com/event/sip-savor-holiday-vendor-event-11-30-2023/
LOCATION:Oscar Carl Vineyard\, 1473 Buchanan Ave\, Sioux City\, IA\, 51106\, United States
CATEGORIES:Vendor Fair
ATTACH;FMTTYPE=image/jpeg:https://oscarcarlvineyard.com/wp-content/uploads/2023/11/Sip-Savor-11.30.23.jpg
END:VEVENT
BEGIN:VEVENT
DTSTART;TZID=America/Chicago:20231021T150000
DTEND;TZID=America/Chicago:20231021T183000
DTSTAMP:20260423T141204
CREATED:20230916T234752Z
LAST-MODIFIED:20230916T234752Z
UID:2781-1697900400-1697913000@oscarcarlvineyard.com
SUMMARY:Octoberfest with Sergeant Bluff Farmers Market 10.21.2023
DESCRIPTION:Please join us for adult beverages with Oscar Carl Vineyard\, German food and Bavarian style pretzels and some amazing farmers market vendors! Our first annual event! Oans\, zwoa\, g’suffa! Prost!
URL:https://oscarcarlvineyard.com/event/octoberfest-with-sergeant-bluff-farmers-market-10-21-2023/
LOCATION:Oscar Carl Vineyard\, 1473 Buchanan Ave\, Sioux City\, IA\, 51106\, United States
CATEGORIES:Vendor Fair
ATTACH;FMTTYPE=image/png:https://oscarcarlvineyard.com/wp-content/uploads/2023/09/Octoberfest-10.21.2023.png
END:VEVENT
END:VCALENDAR