BEGIN:VCALENDAR
VERSION:2.0
PRODID:-//Oscar Carl Vineyard - ECPv6.15.20//NONSGML v1.0//EN
CALSCALE:GREGORIAN
METHOD:PUBLISH
X-WR-CALNAME:Oscar Carl Vineyard
X-ORIGINAL-URL:https://oscarcarlvineyard.com
X-WR-CALDESC:Events for Oscar Carl Vineyard
REFRESH-INTERVAL;VALUE=DURATION:PT1H
X-Robots-Tag:noindex
X-PUBLISHED-TTL:PT1H
BEGIN:VTIMEZONE
TZID:America/Chicago
BEGIN:DAYLIGHT
TZOFFSETFROM:-0600
TZOFFSETTO:-0500
TZNAME:CDT
DTSTART:20230312T080000
END:DAYLIGHT
BEGIN:STANDARD
TZOFFSETFROM:-0500
TZOFFSETTO:-0600
TZNAME:CST
DTSTART:20231105T070000
END:STANDARD
BEGIN:DAYLIGHT
TZOFFSETFROM:-0600
TZOFFSETTO:-0500
TZNAME:CDT
DTSTART:20240310T080000
END:DAYLIGHT
BEGIN:STANDARD
TZOFFSETFROM:-0500
TZOFFSETTO:-0600
TZNAME:CST
DTSTART:20241103T070000
END:STANDARD
BEGIN:DAYLIGHT
TZOFFSETFROM:-0600
TZOFFSETTO:-0500
TZNAME:CDT
DTSTART:20250309T080000
END:DAYLIGHT
BEGIN:STANDARD
TZOFFSETFROM:-0500
TZOFFSETTO:-0600
TZNAME:CST
DTSTART:20251102T070000
END:STANDARD
END:VTIMEZONE
BEGIN:VEVENT
DTSTART;TZID=America/Chicago:20240924T180000
DTEND;TZID=America/Chicago:20240924T200000
DTSTAMP:20260423T160626
CREATED:20240904T000722Z
LAST-MODIFIED:20240904T000722Z
UID:3363-1727200800-1727208000@oscarcarlvineyard.com
SUMMARY:Divine Oil Co. Candle Pouring Class 9.24.2024
DESCRIPTION:Join us for a creative and relaxing candle pouring workshop where you’ll learn the art of crafting your own custom candles! \nIn this hands-on event\, you’ll have the opportunity to select from a variety of scents to create unique candles that reflect your personal taste.\nOur instructors will guide you through the entire process\, from mixing scents to setting your candles. You’ll gain valuable skills and knowledge about candle-making techniques\, and you’ll leave with beautifully crafted candles to light up your home or give as thoughtful gifts. \nWhether you’re a beginner or have some experience with candle-making\, this workshop is perfect for anyone looking to explore their creativity and enjoy a fun\, social experience. \nAll materials are provided\, so just bring your enthusiasm and a desire to create something special!\nClick here for tickets! $50
URL:https://oscarcarlvineyard.com/event/divine-oil-co-candle-pouring-class-9-24-2024/
LOCATION:Oscar Carl Vineyard\, 1473 Buchanan Ave\, Sioux City\, IA\, 51106\, United States
CATEGORIES:Ladies Night Out,Tuesdays Together
ATTACH;FMTTYPE=image/jpeg:https://oscarcarlvineyard.com/wp-content/uploads/2024/03/Candle-Pouring-Event.jpg
END:VEVENT
BEGIN:VEVENT
DTSTART;TZID=America/Chicago:20240507T180000
DTEND;TZID=America/Chicago:20240507T200000
DTSTAMP:20260423T160626
CREATED:20240429T124449Z
LAST-MODIFIED:20240429T172818Z
UID:3159-1715104800-1715112000@oscarcarlvineyard.com
SUMMARY:Come Learn About Our October Group Trip To Italy! 5.7.2024
DESCRIPTION:We’re celebrating our 45th wedding anniversary this year and decided to go to Italy! We’d love it if you came along! \nCome to this “Tuesdays Together” session and learn all about the trip from Ron Metz\, our Premier World Discovery Rep.  We’ll have a selection of Italian wine to sample to set the mood\, along with some light appetizers. We might even learn an Italian expression or two!! (Please call/text 712.898.3400 to RSVP so we can have as close of a count as possible.) \nThe trip will depart from right here at Oscar Carl on October 1\, 2024. There might be a mimosa or two along the way to Omaha\, where we’ll fly out for our final destination of Florence\, Italy. We’ll stay in a first-class hotel in the Chianti region of Tuscany for seven nights. No switching hotels!! (We love that part!!) \nThe itinerary and sign-up details are in the pages below. Feel free to ask us any questions and we’ll do our best to answer. We hope you’ll join us on May 7th — and on our trip to Chianti!! Grazie!
URL:https://oscarcarlvineyard.com/event/come-learn-about-our-trip-to-italy-5-7-2024/
LOCATION:Oscar Carl Vineyard\, 1473 Buchanan Ave\, Sioux City\, IA\, 51106\, United States
CATEGORIES:Tuesdays Together
ATTACH;FMTTYPE=image/png:https://oscarcarlvineyard.com/wp-content/uploads/2024/04/Tour-Post-Together.png
END:VEVENT
BEGIN:VEVENT
DTSTART;TZID=America/Chicago:20240430T170000
DTEND;TZID=America/Chicago:20240430T190000
DTSTAMP:20260423T160626
CREATED:20240410T001945Z
LAST-MODIFIED:20240418T233057Z
UID:3111-1714496400-1714503600@oscarcarlvineyard.com
SUMMARY:Divine Oil Co. Candle Pouring 4.30.2024
DESCRIPTION:Divine Oil Co. will bring 50+ scents for you to mix and match and create your very own custom scent. You will be guided through making two 8 oz candles. Divine Oil Co. will also have some additional items to shop while your candles set up. Oscar Carl Vineyard has food and drinks for purchase\, or feel free to bring your own food! \n$35 for two 8 oz jar candles. \n5pm – 7pm workshop. You can make your candles at anytime throughout the night\, but be aware that they will take around 30-40 minutes to set up before you take them with you. Most people like to pour right away\, then visit with friends\, eat/drink\, and shop some items while the candles set up. \nPlease note\, all sales are final. \nClick here for tickets!
URL:https://oscarcarlvineyard.com/event/divine-oil-co-candle-pouring-4-30-2024/
LOCATION:Oscar Carl Vineyard\, 1473 Buchanan Ave\, Sioux City\, IA\, 51106\, United States
CATEGORIES:Candle Pouring,Ladies Night Out,Tuesdays Together
ATTACH;FMTTYPE=image/jpeg:https://oscarcarlvineyard.com/wp-content/uploads/2024/03/Candle-Pouring-Event.jpg
END:VEVENT
BEGIN:VEVENT
DTSTART;TZID=America/Chicago:20240423T180000
DTEND;TZID=America/Chicago:20240423T200000
DTSTAMP:20260423T160626
CREATED:20240418T222502Z
LAST-MODIFIED:20240418T232851Z
UID:3120-1713895200-1713902400@oscarcarlvineyard.com
SUMMARY:Paint Class at Oscar Carl Vineyard 4.23.2024
DESCRIPTION:Look what we’ve got for next week’s “Tuesdays Together” event! Just in time for Mother’s Day! Paint your very own “Quarter Flower” with some help from professional artist and muralist Kipp Davis. Right here at Oscar Carl! Tuesday\, April 23rd\, at 6pm. \n Click on the link for tickets. We’ll be painting in the Board Room – just a few steps away from our popular wine slushies!! Seats are limited\, so get your tickets now! Cheers to “Tuesdays Together!” \nhttps://fb.me/e/3HdLJsWJG
URL:https://oscarcarlvineyard.com/event/paint-class-at-oscar-carl-vineyard-4-23-2024/
LOCATION:Oscar Carl Vineyard\, 1473 Buchanan Ave\, Sioux City\, IA\, 51106\, United States
CATEGORIES:Ladies Night Out,Paint & Sip,Tuesdays Together
END:VEVENT
END:VCALENDAR