BEGIN:VCALENDAR
VERSION:2.0
PRODID:-//Oscar Carl Vineyard - ECPv6.15.20//NONSGML v1.0//EN
CALSCALE:GREGORIAN
METHOD:PUBLISH
X-ORIGINAL-URL:https://oscarcarlvineyard.com
X-WR-CALDESC:Events for Oscar Carl Vineyard
REFRESH-INTERVAL;VALUE=DURATION:PT1H
X-Robots-Tag:noindex
X-PUBLISHED-TTL:PT1H
BEGIN:VTIMEZONE
TZID:America/Chicago
BEGIN:DAYLIGHT
TZOFFSETFROM:-0600
TZOFFSETTO:-0500
TZNAME:CDT
DTSTART:20230312T080000
END:DAYLIGHT
BEGIN:STANDARD
TZOFFSETFROM:-0500
TZOFFSETTO:-0600
TZNAME:CST
DTSTART:20231105T070000
END:STANDARD
BEGIN:DAYLIGHT
TZOFFSETFROM:-0600
TZOFFSETTO:-0500
TZNAME:CDT
DTSTART:20240310T080000
END:DAYLIGHT
BEGIN:STANDARD
TZOFFSETFROM:-0500
TZOFFSETTO:-0600
TZNAME:CST
DTSTART:20241103T070000
END:STANDARD
BEGIN:DAYLIGHT
TZOFFSETFROM:-0600
TZOFFSETTO:-0500
TZNAME:CDT
DTSTART:20250309T080000
END:DAYLIGHT
BEGIN:STANDARD
TZOFFSETFROM:-0500
TZOFFSETTO:-0600
TZNAME:CST
DTSTART:20251102T070000
END:STANDARD
BEGIN:DAYLIGHT
TZOFFSETFROM:-0600
TZOFFSETTO:-0500
TZNAME:CDT
DTSTART:20260308T080000
END:DAYLIGHT
BEGIN:STANDARD
TZOFFSETFROM:-0500
TZOFFSETTO:-0600
TZNAME:CST
DTSTART:20261101T070000
END:STANDARD
BEGIN:DAYLIGHT
TZOFFSETFROM:-0600
TZOFFSETTO:-0500
TZNAME:CDT
DTSTART:20270314T080000
END:DAYLIGHT
BEGIN:STANDARD
TZOFFSETFROM:-0500
TZOFFSETTO:-0600
TZNAME:CST
DTSTART:20271107T070000
END:STANDARD
END:VTIMEZONE
BEGIN:VEVENT
DTSTART;TZID=America/Chicago:20260411T130000
DTEND;TZID=America/Chicago:20260411T160000
DTSTAMP:20260423T160724
CREATED:20260302T184531Z
LAST-MODIFIED:20260302T184531Z
UID:4160-1775912400-1775923200@oscarcarlvineyard.com
SUMMARY:Sip & Plant! At Oscar Carl Vineyard 4.11.2026
DESCRIPTION:Join us for our 3rd Annual “Sip & Plant!” Bill & Rhonda Brandt from Brandt Gardens & Greenhouse will be in the lower level Vineyard View ready for you with their beautiful succulents\, cacti & houseplants!\nCome anytime between 1-4pm\, but come early for the best selection! The Brandts will be bringing hundreds of containers for you to choose from. (Personally hand-picked by them!) Or bring your own container. Or why not do both!! If you bring your own container\, just pay for the plants that you select. They’ll do the planting while you enjoy some of our award-winning Oscar Carl Vineyard wine. Or maybe a wine slushie! Wander up to the main level of the winery and relax on the patio\, while they do the dirty work!\nPrices on containers vary and include all supplies (plants\, medium/soil\, slow-release fertilizer\, and rock) for a finished living plant arrangement for you to take home and enjoy. (Care instructions on how to take care of your purchase are also included.)\nSo put it on the calendar and join us for “Sip & Plant!” Cheers!
URL:https://oscarcarlvineyard.com/event/sip-plant-at-oscar-carl-vineyard-4-11-2026/
LOCATION:Oscar Carl Vineyard\, 1473 Buchanan Ave\, Sioux City\, IA\, 51106\, United States
CATEGORIES:Sip & Plant
ATTACH;FMTTYPE=image/png:https://oscarcarlvineyard.com/wp-content/uploads/2026/03/Sip-Plant-1.png
END:VEVENT
BEGIN:VEVENT
DTSTART;TZID=America/Chicago:20250413T130000
DTEND;TZID=America/Chicago:20250413T170000
DTSTAMP:20260423T160724
CREATED:20250316T192952Z
LAST-MODIFIED:20250316T192952Z
UID:3615-1744549200-1744563600@oscarcarlvineyard.com
SUMMARY:Sip & Plant! 4.13.2025
DESCRIPTION:Join us for our 2nd Annual “Sip & Plant!” Bill & Rhonda Brandt from Brandt Gardens & Greenhouse will be in the lower level Vineyard View ready for you with their beautiful succulents\, cacti & houseplants! \nCome anytime between 1-5pm\, but come early for the best selection! The Brandts will be bringing hundreds of containers for you to choose from. (Personally hand-picked by them!) Or bring your own container. Or why not do both!! If you bring your own container\, just pay for the plants that you select. They’ll do the planting while you enjoy some of our award-winning Oscar Carl Vineyard wine. Or maybe a wine slushie! Wander up to the main level of the winery and relax on the patio\, while they do the dirty work! \nPrices on containers vary and include all supplies (plants\, medium/soil\, slow-release fertilizer\, and rock) for a finished living plant arrangement for you to take home and enjoy. (Care instructions on how to take care of your purchase are also included.) \nSo put it on the calendar and join us for “Sip & Plant!” Cheers!
URL:https://oscarcarlvineyard.com/event/sip-plant-4-13-2025/
LOCATION:Oscar Carl Vineyard\, 1473 Buchanan Ave\, Sioux City\, IA\, 51106\, United States
CATEGORIES:Sip & Plant
ATTACH;FMTTYPE=image/png:https://oscarcarlvineyard.com/wp-content/uploads/2025/03/Sip-Plant.png
END:VEVENT
BEGIN:VEVENT
DTSTART;TZID=America/Chicago:20240413T130000
DTEND;TZID=America/Chicago:20240413T170000
DTSTAMP:20260423T160724
CREATED:20240409T235401Z
LAST-MODIFIED:20240409T235401Z
UID:3103-1713013200-1713027600@oscarcarlvineyard.com
SUMMARY:Sip & Plant with Brandt Gardens & Greenhouse 4.13.2024
DESCRIPTION:Join us for our first “Sip & Plant!” Bill & Rhonda Brandt from Brandt Gardens & Greenhouse will be in the lower level Vineyard View ready for you with their beautiful succulents\, cacti & houseplants! \nCome anytime between 1-5pm\, but come early for the best selection! The Brandts will be bringing hundreds of containers for you to choose from. (Personally hand-picked by them!) Or bring your own container. Or why not do both!! If you bring your own container\, just pay for the plants that you select. They’ll do the planting while you enjoy some of our award-winning Oscar Carl Vineyard wine. Or maybe a wine slushie! Wander up to the main level of the winery and relax on the patio\, while they do the dirty work! \nPrices on containers vary and include all supplies (plants\, medium/soil\, slow-release fertilizer\, and rock) for a finished living plant arrangement for you to take home and enjoy. (Care instructions on how to take care of your purchase are also included.) \nSo put it on the calendar and join us for “Sip & Plant!” Cheers!
URL:https://oscarcarlvineyard.com/event/sip-plant-with-brandt-gardens-greenhouse-4-13-2024/
LOCATION:Oscar Carl Vineyard\, 1473 Buchanan Ave\, Sioux City\, IA\, 51106\, United States
CATEGORIES:Sip & Plant
ATTACH;FMTTYPE=image/png:https://oscarcarlvineyard.com/wp-content/uploads/2024/04/Sip-Plant-4.13.2024.png
END:VEVENT
END:VCALENDAR