BEGIN:VCALENDAR
VERSION:2.0
PRODID:-//Oscar Carl Vineyard - ECPv6.15.20//NONSGML v1.0//EN
CALSCALE:GREGORIAN
METHOD:PUBLISH
X-WR-CALNAME:Oscar Carl Vineyard
X-ORIGINAL-URL:https://oscarcarlvineyard.com
X-WR-CALDESC:Events for Oscar Carl Vineyard
REFRESH-INTERVAL;VALUE=DURATION:PT1H
X-Robots-Tag:noindex
X-PUBLISHED-TTL:PT1H
BEGIN:VTIMEZONE
TZID:America/Chicago
BEGIN:DAYLIGHT
TZOFFSETFROM:-0600
TZOFFSETTO:-0500
TZNAME:CDT
DTSTART:20230312T080000
END:DAYLIGHT
BEGIN:STANDARD
TZOFFSETFROM:-0500
TZOFFSETTO:-0600
TZNAME:CST
DTSTART:20231105T070000
END:STANDARD
BEGIN:DAYLIGHT
TZOFFSETFROM:-0600
TZOFFSETTO:-0500
TZNAME:CDT
DTSTART:20240310T080000
END:DAYLIGHT
BEGIN:STANDARD
TZOFFSETFROM:-0500
TZOFFSETTO:-0600
TZNAME:CST
DTSTART:20241103T070000
END:STANDARD
BEGIN:DAYLIGHT
TZOFFSETFROM:-0600
TZOFFSETTO:-0500
TZNAME:CDT
DTSTART:20250309T080000
END:DAYLIGHT
BEGIN:STANDARD
TZOFFSETFROM:-0500
TZOFFSETTO:-0600
TZNAME:CST
DTSTART:20251102T070000
END:STANDARD
BEGIN:DAYLIGHT
TZOFFSETFROM:-0600
TZOFFSETTO:-0500
TZNAME:CDT
DTSTART:20260308T080000
END:DAYLIGHT
BEGIN:STANDARD
TZOFFSETFROM:-0500
TZOFFSETTO:-0600
TZNAME:CST
DTSTART:20261101T070000
END:STANDARD
BEGIN:DAYLIGHT
TZOFFSETFROM:-0600
TZOFFSETTO:-0500
TZNAME:CDT
DTSTART:20270314T080000
END:DAYLIGHT
BEGIN:STANDARD
TZOFFSETFROM:-0500
TZOFFSETTO:-0600
TZNAME:CST
DTSTART:20271107T070000
END:STANDARD
END:VTIMEZONE
BEGIN:VEVENT
DTSTART;TZID=America/Chicago:20260401T180000
DTEND;TZID=America/Chicago:20260401T200000
DTSTAMP:20260423T093515
CREATED:20260321T005324Z
LAST-MODIFIED:20260321T005324Z
UID:4188-1775066400-1775073600@oscarcarlvineyard.com
SUMMARY:Pickled Palette Paint & Sip 4.1.2026
DESCRIPTION:We’re excited to host Pickled Palette for another fun Paint & Sip in the creative setting of our lower level Vineyard View! For more info and tickets\, click here. (Contact Pickled Palette at 712.224.2757 with any ticket questions.) \nEasy-peasy parking on our lower level. Just follow the road between the split-rail fence and the gray building\, curve around and you’ll arrive at your destination. You’ll be able to order wine and other beverages\, along with our selection of food at the main floor bar. Or you can bring your own snacks. Be ready to have some fun and let your creativity flow!
URL:https://oscarcarlvineyard.com/event/pickled-palette-paint-sip-4-1-2026/
LOCATION:Oscar Carl Vineyard\, 1473 Buchanan Ave\, Sioux City\, IA\, 51106\, United States
CATEGORIES:Paint & Sip
ATTACH;FMTTYPE=image/jpeg:https://oscarcarlvineyard.com/wp-content/uploads/2026/03/Pickled-Palette-4.1.2026.jpg
END:VEVENT
BEGIN:VEVENT
DTSTART;TZID=America/Chicago:20260211T180000
DTEND;TZID=America/Chicago:20260211T200000
DTSTAMP:20260423T093515
CREATED:20260124T180434Z
LAST-MODIFIED:20260124T180434Z
UID:4031-1770832800-1770840000@oscarcarlvineyard.com
SUMMARY:Galentine's Paint & Sip with Pickled Palette 2.11.2026
DESCRIPTION:We’re excited to host Pickled Palette for another fun Paint & Sip in the creative setting of our lower level Vineyard View! For more info and tickets\, click here. (Contact Pickled Palette at 712.224.2757 with any ticket questions.) \nEasy-peasy parking on our lower level. Just follow the road between the split-rail fence and the gray building\, curve around and you’ll arrive at your destination. You’ll be able to order wine and other beverages\, along with our selection of food at the main floor bar. Or you can bring your own snacks. Be ready to have some fun and let your creativity flow!
URL:https://oscarcarlvineyard.com/event/galentines-paint-sip-with-pickled-palette-2-11-2026/
LOCATION:Oscar Carl Vineyard\, 1473 Buchanan Ave\, Sioux City\, IA\, 51106\, United States
CATEGORIES:Ladies Night Out,Paint & Sip
ATTACH;FMTTYPE=image/jpeg:https://oscarcarlvineyard.com/wp-content/uploads/2026/01/Pickled-Palette-2.11.2026.jpg
END:VEVENT
BEGIN:VEVENT
DTSTART;TZID=America/Chicago:20251217T180000
DTEND;TZID=America/Chicago:20251217T200000
DTSTAMP:20260423T093515
CREATED:20251204T001624Z
LAST-MODIFIED:20251204T001624Z
UID:3948-1765994400-1766001600@oscarcarlvineyard.com
SUMMARY:Pickled Palette Paint & Sip 12.17.2025
DESCRIPTION:We’re excited to host Pickled Palette for another fun Paint & Sip in the creative setting of our lower level Vineyard View! For more info and tickets\, click here. (Contact Pickled Palette at 712.224.2757 with any ticket questions.) \nEasy-peasy parking on our lower level. Just follow the road between the split-rail fence and the gray building\, curve around and you’ll arrive at your destination. You’ll be able to order wine and other beverages\, along with our fabulous selection of food at the main floor bar. Or you can bring your own snacks. Be ready to have some fun and let your creativity flow!
URL:https://oscarcarlvineyard.com/event/pickled-palette-paint-sip-12-17-2025/
LOCATION:Oscar Carl Vineyard\, 1473 Buchanan Ave\, Sioux City\, IA\, 51106\, United States
CATEGORIES:Ladies Night Out,Paint & Sip
ATTACH;FMTTYPE=image/jpeg:https://oscarcarlvineyard.com/wp-content/uploads/2025/11/585884700_1409826217394993_4054483279068413453_n.jpg
END:VEVENT
BEGIN:VEVENT
DTSTART;TZID=America/Chicago:20251119T180000
DTEND;TZID=America/Chicago:20251119T200000
DTSTAMP:20260423T093515
CREATED:20251026T204326Z
LAST-MODIFIED:20251026T204326Z
UID:3891-1763575200-1763582400@oscarcarlvineyard.com
SUMMARY:Pickled Palette Paint & Sip 11.19.2025
DESCRIPTION:We’re excited to host Pickled Palette for another fun Paint & Sip in the creative setting of our lower level Vineyard View! For more info and tickets\, click here. (Contact Pickled Palette at 712.224.2757 with any ticket questions.) \nEasy-peasy parking on our lower level. Just follow the road between the split-rail fence and the gray building\, curve around and you’ll arrive at your destination. You’ll be able to order wine and other beverages\, along with our selection of food at the main floor bar. Or you can bring your own snacks. Be ready to have some fun and let your creativity flow!
URL:https://oscarcarlvineyard.com/event/pickled-palette-paint-sip-11-19-2025/
LOCATION:Oscar Carl Vineyard\, 1473 Buchanan Ave\, Sioux City\, IA\, 51106\, United States
CATEGORIES:Ladies Night Out,Paint & Sip
ATTACH;FMTTYPE=image/jpeg:https://oscarcarlvineyard.com/wp-content/uploads/2025/10/Paint-Sip-11.19.2025.jpg
END:VEVENT
BEGIN:VEVENT
DTSTART;TZID=America/Chicago:20251022T180000
DTEND;TZID=America/Chicago:20251022T200000
DTSTAMP:20260423T093515
CREATED:20251019T192533Z
LAST-MODIFIED:20251019T192533Z
UID:3867-1761156000-1761163200@oscarcarlvineyard.com
SUMMARY:Pickled Palette Paint & Sip 10.22.2025
DESCRIPTION:We’re excited to host Pickled Palette for another fun Paint & Sip in the creative setting of our lower level Vineyard View! For more info and tickets\, click here. (Contact Pickled Palette at 712.224.2757 with any ticket questions.) \nEasy-peasy parking on our lower level. Just follow the road between the split-rail fence and the gray building\, curve around and you’ll arrive at your destination. You’ll be able to order wine and other beverages\, along with our selection of food at the main floor bar. Or you can bring your own snacks. Be ready to have some fun and let your creativity flow!
URL:https://oscarcarlvineyard.com/event/pickled-palette-paint-sip-10-22-2025/
LOCATION:Oscar Carl Vineyard\, 1473 Buchanan Ave\, Sioux City\, IA\, 51106\, United States
CATEGORIES:Ladies Night Out,Paint & Sip
ATTACH;FMTTYPE=image/jpeg:https://oscarcarlvineyard.com/wp-content/uploads/2025/10/Paint-Sip-10.22.2025.jpg
END:VEVENT
BEGIN:VEVENT
DTSTART;TZID=America/Chicago:20250820T180000
DTEND;TZID=America/Chicago:20250820T200000
DTSTAMP:20260423T093515
CREATED:20250807T231941Z
LAST-MODIFIED:20250807T231941Z
UID:3831-1755712800-1755720000@oscarcarlvineyard.com
SUMMARY:Pickled Palette Paint & Sip 8.20.2025
DESCRIPTION:We’re excited to host Pickled Palette for another fun Paint & Sip in the creative setting of our lower level Vineyard View! For more info and tickets\, click here. (Contact Pickled Palette at 712.224.2757 with any ticket questions.) \nEasy-peasy parking on our lower level. Just follow the road between the split-rail fence and the gray building\, curve around and you’ll arrive at your destination. You’ll be able to order wine and other beverages\, along with our selection of food at the main floor bar. Or you can bring your own snacks. Be ready to have some fun and let your creativity flow!
URL:https://oscarcarlvineyard.com/event/pickled-palette-paint-sip-8-20-2025/
LOCATION:Oscar Carl Vineyard\, 1473 Buchanan Ave\, Sioux City\, IA\, 51106\, United States
CATEGORIES:Ladies Night Out,Paint & Sip
ATTACH;FMTTYPE=image/jpeg:https://oscarcarlvineyard.com/wp-content/uploads/2025/08/Paint-Sip-8.20.2025.jpg
END:VEVENT
BEGIN:VEVENT
DTSTART;TZID=America/Chicago:20250723T180000
DTEND;TZID=America/Chicago:20250723T200000
DTSTAMP:20260423T093515
CREATED:20250706T211510Z
LAST-MODIFIED:20250706T211510Z
UID:3785-1753293600-1753300800@oscarcarlvineyard.com
SUMMARY:Paint & Sip with Pickled Palette 7.23.2025
DESCRIPTION:We’re excited to host Pickled Palette for another fun Paint & Sip in the creative setting of our lower level Vineyard View! For more info and tickets\, click here. (Contact Pickled Palette at 712.224.2757 with any ticket questions.) \nEasy-peasy parking on our lower level. Just follow the road between the split-rail fence and the gray building\, curve around and you’ll arrive at your destination. You’ll be able to order wine and other beverages\, along with our selection of food at the main floor bar. Or you can bring your own snacks. Be ready to have some fun and let your creativity flow! \nNotes: Projects will be fired and ready for pick-up at Pickled Palette located at 4014 Morningside Ave\, Sioux City.
URL:https://oscarcarlvineyard.com/event/paint-sip-with-pickled-palette-7-23-2025/
LOCATION:Oscar Carl Vineyard\, 1473 Buchanan Ave\, Sioux City\, IA\, 51106\, United States
CATEGORIES:Ladies Night Out,Paint & Sip
ATTACH;FMTTYPE=image/jpeg:https://oscarcarlvineyard.com/wp-content/uploads/2025/07/Paint-Sip-7.23.2025.jpg
END:VEVENT
BEGIN:VEVENT
DTSTART;TZID=America/Chicago:20250625T180000
DTEND;TZID=America/Chicago:20250625T200000
DTSTAMP:20260423T093515
CREATED:20250622T003216Z
LAST-MODIFIED:20250622T003216Z
UID:3720-1750874400-1750881600@oscarcarlvineyard.com
SUMMARY:Pickled Palette Paint & Sip 6.25.2025
DESCRIPTION:We’re excited to host Pickled Palette for another fun Paint & Sip in the creative setting of our lower level Vineyard View! For more info and tickets\, click here. (Contact Pickled Palette at 712.224.2757 with any ticket questions.) \nEasy-peasy parking on our lower level. Just follow the road between the split-rail fence and the gray building\, curve around and you’ll arrive at your destination. You’ll be able to order wine and other beverages\, along with our selection of food at the main floor bar. Or you can bring your own snacks. Be ready to have some fun and let your creativity flow! \n\nFrom Pickled Palette: \nWine in one hand\, a paintbrush in the other—what could be better? 🍷🎨 Join us for a night at Oscar Carl Vineyard\, where you’ll paint your very own pottery masterpiece. With a cozy vineyard backdrop\, staff guidance\, and plenty of laughs along the way\, this is the perfect way to unwind\, get creative\, and sip your way to a masterpiece. No experience needed—just bring your love for wine and a little artistic spirit! 🏺✨ **Enjoy their delicious selection of beverages (the wine slushies are our fav) choose from a variety to get your creative juices flowing! \nWhat to expect: \n\n2 pottery options to choose from when you register\, select any amount of items\nWe will be bringing our solid color glazes\nNever painted pottery before? – no worries! no experience necessary\nDelicious wine selection available for purchase during the event\nBites available for purchase!\n\nNotes:- Projects will be fired and ready for pick-up at Pickled Palette located at 4014 Morningside Ave\, Sioux City#class \n\n 
URL:https://oscarcarlvineyard.com/event/pickled-palette-paint-sip-6-25-2025/
LOCATION:Oscar Carl Vineyard\, 1473 Buchanan Ave\, Sioux City\, IA\, 51106\, United States
CATEGORIES:Ladies Night Out,Paint & Sip
ATTACH;FMTTYPE=image/jpeg:https://oscarcarlvineyard.com/wp-content/uploads/2025/06/Paint-Sip-6.25.25.jpg
END:VEVENT
BEGIN:VEVENT
DTSTART;TZID=America/Chicago:20250522T180000
DTEND;TZID=America/Chicago:20250522T200000
DTSTAMP:20260423T093515
CREATED:20250428T175351Z
LAST-MODIFIED:20250428T175351Z
UID:3682-1747936800-1747944000@oscarcarlvineyard.com
SUMMARY:Pickled Palette Paint & Sip 5.22.2025
DESCRIPTION:Wine in one hand\, paintbrush in the other—what could be better? \nWith a cozy vineyard backdrop\, Pickled Palette expert staff guidance\, and plenty of laughs along the way\, this is the perfect way to unwind\, get creative\, and sip your way to a masterpiece. No experience needed—just bring your love for wine and a little artistic spirit! \n\nGet your tickets here or call Pickled Palette at 712.224.2757 with questions!\n\nNotes:- Projects will be fired and ready for pick-up at Pickled Palette located at 4014 Morningside Ave\, Sioux City
URL:https://oscarcarlvineyard.com/event/pickled-palette-paint-sip-5-22-2025/
LOCATION:Oscar Carl Vineyard\, 1473 Buchanan Ave\, Sioux City\, IA\, 51106\, United States
CATEGORIES:Ladies Night Out,Paint & Sip
ATTACH;FMTTYPE=image/jpeg:https://oscarcarlvineyard.com/wp-content/uploads/2025/04/Paint-Sip-5.22.2025.jpg
END:VEVENT
BEGIN:VEVENT
DTSTART;TZID=America/Chicago:20250430T180000
DTEND;TZID=America/Chicago:20250430T200000
DTSTAMP:20260423T093515
CREATED:20250419T185401Z
LAST-MODIFIED:20250419T185401Z
UID:3676-1746036000-1746043200@oscarcarlvineyard.com
SUMMARY:Lil' Moos & "Merlot" Pickled Palette Paint & Sip 4.30.2025
DESCRIPTION:Join us for an unforgettable evening of creativity\, wine\, and cuteness overload at our Lil Moo’s & Merlot event\, hosted at the scenic Oscar Carl Vineyard! Nestled among the vines\, you’ll enjoy painting pottery while sipping on their finest wines — and for the cherry on top\, you’ll get to meet and mingle with three adorable miniature Highland cows! Whether you’re a seasoned artist or a first-time painter\, this is a fun and relaxing way to create a keepsake inspired by our fluffy friends. \nWhat to expect:\n🐮 3 charming miniature highland cows to adore!\n📸 Photo ops for all!\n🏺4 exclusive pottery choices to choose from\n🍷 A wide variety of wine to sip on between painting and petting the cows! \nHow It Works:\n🎟️ By reserving your spot\, that guarantees your selected pottery item and visiting with the highland cows. Additional food and beverages are available for purchase. \nAll attendees must be registered. Because of limited time\, visiting with the cows will be permitted only to guests registered for this event. Register here. \nProjects will be fired and ready for pick-up at Pickled Palette located at 4014 Morningside Ave\, Sioux City
URL:https://oscarcarlvineyard.com/event/lil-moos-merlot-pickled-palette-paint-sip-4-30-2025/
LOCATION:Oscar Carl Vineyard\, 1473 Buchanan Ave\, Sioux City\, IA\, 51106\, United States
CATEGORIES:Ladies Night Out,Paint & Sip
ATTACH;FMTTYPE=image/jpeg:https://oscarcarlvineyard.com/wp-content/uploads/2025/04/Lil-Moos-Merlot-Paint-Sip-4.30.25.jpg
END:VEVENT
BEGIN:VEVENT
DTSTART;TZID=America/Chicago:20250319T180000
DTEND;TZID=America/Chicago:20250319T200000
DTSTAMP:20260423T093515
CREATED:20250303T193247Z
LAST-MODIFIED:20250319T165351Z
UID:3598-1742407200-1742414400@oscarcarlvineyard.com
SUMMARY:Pickled Palette Paint & Sip *Postponed* 3.19.2025
DESCRIPTION:*This event has been postponed due to the wintery weather!* We’re excited to host Pickled Palette for another fun Paint & Sip in the creative setting of our lower level Vineyard View! For more info and tickets\, click here. (Contact Pickled Palette at 712.224.2757 with any ticket questions.) \nEasy-peasy parking on our lower level. Just follow the road between the split-rail fence and the gray building\, curve around and you’ll arrive at your destination. You’ll be able to order wine and other beverages\, along with our selection of food at the main floor bar. Or you can bring your own snacks. Be ready to have some fun and let your creativity flow!
URL:https://oscarcarlvineyard.com/event/pickled-palette-paint-sip-3-19-2025/
LOCATION:Oscar Carl Vineyard\, 1473 Buchanan Ave\, Sioux City\, IA\, 51106\, United States
CATEGORIES:Ladies Night Out,Paint & Sip
ATTACH;FMTTYPE=image/jpeg:https://oscarcarlvineyard.com/wp-content/uploads/2025/03/Pickled-Palette-3.19.2025.jpg
END:VEVENT
BEGIN:VEVENT
DTSTART;TZID=America/Chicago:20241218T180000
DTEND;TZID=America/Chicago:20241218T200000
DTSTAMP:20260423T093515
CREATED:20241215T010816Z
LAST-MODIFIED:20241215T010816Z
UID:3471-1734544800-1734552000@oscarcarlvineyard.com
SUMMARY:Pickled Palette - Paint & Sip 12.18.2024
DESCRIPTION:We’re excited to host Pickled Palette for another fun Paint & Sip in the creative setting of our lower level Vineyard View! For more info and tickets\, click here. (Contact Pickled Palette at 712.224.2757 with any ticket questions.) \nEasy-peasy parking on our lower level. Just follow the road between the split-rail fence and the gray building\, curve around and you’ll arrive at your destination. You’ll be able to order wine and other beverages\, along with our selection of food at the main floor bar. Or you can bring your own snacks. Be ready to have some fun and let your creativity flow!
URL:https://oscarcarlvineyard.com/event/pickled-palette-paint-sip-12-18-2024/
LOCATION:Oscar Carl Vineyard\, 1473 Buchanan Ave\, Sioux City\, IA\, 51106\, United States
CATEGORIES:Ladies Night Out,Paint & Sip
ATTACH;FMTTYPE=image/jpeg:https://oscarcarlvineyard.com/wp-content/uploads/2024/12/Paint-Sip-12.18.2024.jpg
END:VEVENT
BEGIN:VEVENT
DTSTART;TZID=America/Chicago:20241120T180000
DTEND;TZID=America/Chicago:20241120T200000
DTSTAMP:20260423T093515
CREATED:20241101T231632Z
LAST-MODIFIED:20241101T231632Z
UID:3426-1732125600-1732132800@oscarcarlvineyard.com
SUMMARY:Pickled Palette - Paint & Sip 11.20.2024
DESCRIPTION:We’re excited to host Pickled Palette for another fun Paint & Sip in the creative setting of our lower level Vineyard View! For more info and tickets\, click here. (Contact Pickled Palette at 712.224.2757 with any ticket questions.) \nEasy-peasy parking on our lower level. Just follow the road between the split-rail fence and the gray building\, curve around and you’ll arrive at your destination. You’ll be able to order wine and other beverages\, along with our selection of food at the main floor bar. Or you can bring your own snacks. Be ready to have some fun and let your creativity flow!
URL:https://oscarcarlvineyard.com/event/pickled-palette-paint-sip-11-20-2024/
LOCATION:Oscar Carl Vineyard\, 1473 Buchanan Ave\, Sioux City\, IA\, 51106\, United States
CATEGORIES:Ladies Night Out,Paint & Sip
END:VEVENT
BEGIN:VEVENT
DTSTART;TZID=America/Chicago:20240925T180000
DTEND;TZID=America/Chicago:20240925T200000
DTSTAMP:20260423T093515
CREATED:20240904T001553Z
LAST-MODIFIED:20240904T222116Z
UID:3365-1727287200-1727294400@oscarcarlvineyard.com
SUMMARY:Pickled Palette - Paint & Sip 9.25.2024
DESCRIPTION:We’re excited to host Pickled Palette for another fun Paint & Sip in the creative setting of our lower level Vineyard View! Click here for tickets and details. (Contact Pickled Palette at 712.224.2757 with any ticket questions.) \nEasy-peasy parking on our lower level. Just follow the road between the split-rail fence and the gray building\, curve around and you’ll arrive at your destination. You’ll be able to order wine and other beverages\, along with our selection of food\, at the main floor bar. Or you can bring your own snacks. Be ready to have some fun and let your creativity flow!
URL:https://oscarcarlvineyard.com/event/pickled-palette-paint-sip-9-25-2024/
LOCATION:Oscar Carl Vineyard\, 1473 Buchanan Ave\, Sioux City\, IA\, 51106\, United States
CATEGORIES:Paint & Sip
END:VEVENT
BEGIN:VEVENT
DTSTART;TZID=America/Chicago:20240828T180000
DTEND;TZID=America/Chicago:20240828T200000
DTSTAMP:20260423T093515
CREATED:20240802T175803Z
LAST-MODIFIED:20240804T181037Z
UID:3317-1724868000-1724875200@oscarcarlvineyard.com
SUMMARY:Pickled Palette - Paint & Sip 8.28.2024
DESCRIPTION:We can’t wait for you to join us for a fun evening of painting at Oscar Carl Vineyard! Enjoy their delicious selection of beverages (the wine slushies are our fav) to choose from to get your creative juices flowing!\nWhat to expect:– 2 pottery options to choose from when you register\, select any amount of items– We will be bringing our earthy pottery glazes with us!– Never painted pottery before? – no worries! no experience necessary– delicious wine selection available for purchase during the event– feel free to bring your own snacks or purchase food along with your wine!\nNotes:- Projects will be fired and ready for pick-up at Pickled Palette located at 4014 Morningside Ave\, Sioux City\n\nPurchase your tickets here!
URL:https://oscarcarlvineyard.com/event/pickled-palette-paint-sip-8-28-2024/
LOCATION:Oscar Carl Vineyard\, 1473 Buchanan Ave\, Sioux City\, IA\, 51106\, United States
CATEGORIES:Ladies Night Out,Paint & Sip
END:VEVENT
BEGIN:VEVENT
DTSTART;TZID=America/Chicago:20240731T180000
DTEND;TZID=America/Chicago:20240731T200000
DTSTAMP:20260423T093515
CREATED:20240725T150119Z
LAST-MODIFIED:20240725T150119Z
UID:3288-1722448800-1722456000@oscarcarlvineyard.com
SUMMARY:Pickled Palette Paint & Sip 7.31.2024
DESCRIPTION:Grab your pals and join us for a fun evening of painting at Oscar Carl Vineyard! Enjoy their delicious selection of beverages (the wine slushies are our fav) to choose from to get your creative juices flowing!\nWhat to expect:– 2 pottery options to choose from when you register\, select any amount of items– Bringing along our FUN FLECKLE GLAZES– Never painted pottery before? – no worries! no experience necessary– delicious wine selection\, pizzas and other options available for purchase during the event or feel free to bring your own snacks!\nNotes:- Projects will be fired and ready for pick-up at Pickled Palette located at 4014 Morningside Ave\, Sioux City\n\nGet your tickets here!
URL:https://oscarcarlvineyard.com/event/pickled-palette-paint-sip-7-31-2024/
LOCATION:Oscar Carl Vineyard\, 1473 Buchanan Ave\, Sioux City\, IA\, 51106\, United States
CATEGORIES:Ladies Night Out,Paint & Sip
END:VEVENT
BEGIN:VEVENT
DTSTART;TZID=America/Chicago:20240626T060000
DTEND;TZID=America/Chicago:20240626T200000
DTSTAMP:20260423T093515
CREATED:20240623T010325Z
LAST-MODIFIED:20240623T012336Z
UID:3234-1719381600-1719432000@oscarcarlvineyard.com
SUMMARY:Pickled Palette Paint & Sip 6.26.2024
DESCRIPTION:We’re excited to host Pickled Palette for another fun Paint & Sip in the creative setting of our lower level Vineyard View! For more info and tickets\, click here. (Contact Pickled Palette at 712.224.2757 with any ticket questions.) Be ready to have some fun and let your creativity flow!
URL:https://oscarcarlvineyard.com/event/pickled-palette-paint-sip-6-26-2024/
LOCATION:Oscar Carl Vineyard\, 1473 Buchanan Ave\, Sioux City\, IA\, 51106\, United States
CATEGORIES:Ladies Night Out,Paint & Sip
END:VEVENT
BEGIN:VEVENT
DTSTART;TZID=America/Chicago:20240604T180000
DTEND;TZID=America/Chicago:20240604T200000
DTSTAMP:20260423T093515
CREATED:20240602T005422Z
LAST-MODIFIED:20240602T005422Z
UID:3220-1717524000-1717531200@oscarcarlvineyard.com
SUMMARY:Pickled Palette Paint & Sip 6.4.2024
DESCRIPTION:Join the professional pottery painting staff from Pickled Palette as they guide you through the creation of your own masterpiece! And sip on your favorite Oscar Carl wine or our ever-popular Wine Slushies!! Talk about a win-win! \nClick here for tickets from Pickled Palette!
URL:https://oscarcarlvineyard.com/event/pickled-palette-paint-sip-6-4-2024/
LOCATION:Oscar Carl Vineyard\, 1473 Buchanan Ave\, Sioux City\, IA\, 51106\, United States
CATEGORIES:Paint & Sip
END:VEVENT
BEGIN:VEVENT
DTSTART;TZID=America/Chicago:20240508T180000
DTEND;TZID=America/Chicago:20240508T200000
DTSTAMP:20260423T093515
CREATED:20240501T230530Z
LAST-MODIFIED:20240501T230530Z
UID:3171-1715191200-1715198400@oscarcarlvineyard.com
SUMMARY:Pickled Palette Paint & Sip 5.8.2024
DESCRIPTION:We can’t wait for you to join us for a fun evening of painting with Pickled Palette at Oscar Carl Vineyard! Enjoy their delicious selection of beverages (the wine slushies are our fav) to choose from to get your creative juices flowing!What to expect:\n– 2 pottery options to choose from when you register\, select any amount of items– never painted pottery before? – no worries! no experience necessary– Delicious wine selection available for purchase during the eventfeel free to bring your own snacks!\n* Notes: Projects will be fired and ready for pick-up at Pickled Palette located at 4014 Morningside Ave\, Sioux City\, Iowa.\n\nClick here to get your tickets!
URL:https://oscarcarlvineyard.com/event/pickled-palette-paint-sip-5-8-2024/
LOCATION:Oscar Carl Vineyard\, 1473 Buchanan Ave\, Sioux City\, IA\, 51106\, United States
CATEGORIES:Paint & Sip
ATTACH;FMTTYPE=image/jpeg:https://oscarcarlvineyard.com/wp-content/uploads/2024/05/Pickled-Palette-Logo.jpg
END:VEVENT
BEGIN:VEVENT
DTSTART;TZID=America/Chicago:20240423T180000
DTEND;TZID=America/Chicago:20240423T200000
DTSTAMP:20260423T093515
CREATED:20240418T222502Z
LAST-MODIFIED:20240418T232851Z
UID:3120-1713895200-1713902400@oscarcarlvineyard.com
SUMMARY:Paint Class at Oscar Carl Vineyard 4.23.2024
DESCRIPTION:Look what we’ve got for next week’s “Tuesdays Together” event! Just in time for Mother’s Day! Paint your very own “Quarter Flower” with some help from professional artist and muralist Kipp Davis. Right here at Oscar Carl! Tuesday\, April 23rd\, at 6pm. \n Click on the link for tickets. We’ll be painting in the Board Room – just a few steps away from our popular wine slushies!! Seats are limited\, so get your tickets now! Cheers to “Tuesdays Together!” \nhttps://fb.me/e/3HdLJsWJG
URL:https://oscarcarlvineyard.com/event/paint-class-at-oscar-carl-vineyard-4-23-2024/
LOCATION:Oscar Carl Vineyard\, 1473 Buchanan Ave\, Sioux City\, IA\, 51106\, United States
CATEGORIES:Ladies Night Out,Paint & Sip,Tuesdays Together
END:VEVENT
BEGIN:VEVENT
DTSTART;TZID=America/Chicago:20240110T180000
DTEND;TZID=America/Chicago:20240110T200000
DTSTAMP:20260423T093515
CREATED:20231216T024803Z
LAST-MODIFIED:20231216T024803Z
UID:2856-1704909600-1704916800@oscarcarlvineyard.com
SUMMARY:Pickled Palette Paint & Sip 1.10.2024
DESCRIPTION:We’re excited to host Pickled Palette for another fun Paint & Sip in the creative setting of our lower level Vineyard View! For more info and tickets\, click here. (Contact Pickled Palette at 712.224.2757 with any ticket questions.) \nEasy-peasy parking on our lower level. Just follow the road between the split-rail fence and the gray building\, curve around and you’ll arrive at your destination. Be ready to have some fun and let your creativity flow! \n 
URL:https://oscarcarlvineyard.com/event/pickled-palette-paint-sip-1-10-2024/
LOCATION:Oscar Carl Vineyard\, 1473 Buchanan Ave\, Sioux City\, IA\, 51106\, United States
CATEGORIES:Paint & Sip
END:VEVENT
END:VCALENDAR