BEGIN:VCALENDAR
VERSION:2.0
PRODID:-//Oscar Carl Vineyard - ECPv6.15.20//NONSGML v1.0//EN
CALSCALE:GREGORIAN
METHOD:PUBLISH
X-WR-CALNAME:Oscar Carl Vineyard
X-ORIGINAL-URL:https://oscarcarlvineyard.com
X-WR-CALDESC:Events for Oscar Carl Vineyard
REFRESH-INTERVAL;VALUE=DURATION:PT1H
X-Robots-Tag:noindex
X-PUBLISHED-TTL:PT1H
BEGIN:VTIMEZONE
TZID:America/Chicago
BEGIN:DAYLIGHT
TZOFFSETFROM:-0600
TZOFFSETTO:-0500
TZNAME:CDT
DTSTART:20230312T080000
END:DAYLIGHT
BEGIN:STANDARD
TZOFFSETFROM:-0500
TZOFFSETTO:-0600
TZNAME:CST
DTSTART:20231105T070000
END:STANDARD
BEGIN:DAYLIGHT
TZOFFSETFROM:-0600
TZOFFSETTO:-0500
TZNAME:CDT
DTSTART:20240310T080000
END:DAYLIGHT
BEGIN:STANDARD
TZOFFSETFROM:-0500
TZOFFSETTO:-0600
TZNAME:CST
DTSTART:20241103T070000
END:STANDARD
BEGIN:DAYLIGHT
TZOFFSETFROM:-0600
TZOFFSETTO:-0500
TZNAME:CDT
DTSTART:20250309T080000
END:DAYLIGHT
BEGIN:STANDARD
TZOFFSETFROM:-0500
TZOFFSETTO:-0600
TZNAME:CST
DTSTART:20251102T070000
END:STANDARD
END:VTIMEZONE
BEGIN:VEVENT
DTSTART;TZID=America/Chicago:20241202T170000
DTEND;TZID=America/Chicago:20241202T200000
DTSTAMP:20260424T081422
CREATED:20241103T015830Z
LAST-MODIFIED:20241103T015830Z
UID:3437-1733158800-1733169600@oscarcarlvineyard.com
SUMMARY:Pop-Up Monday Shopping - Holiday Edition PMS 12.2.2024
DESCRIPTION:On random Mondays\, Oscar Carl hosts a vendor pop-up from 5-8pm. Put December 2nd on your calendar for “Pop-Up Monday Shopping – Holiday Edition!” This is outside of our usual “open” time and is dedicated to SHOPPING!! Along with wine and socializing\, of course!!! \nWe’re working on building an awesome experience for everyone. If you’re a shopper\, put us on your calendar! And invite your friends! If you’re a vendor\, message us and we’ll fill you in on what you need to know. (There is no charge to be a vendor. If someone is asking you for money\, it’s not legit.) \nJoin us at Oscar Carl on December 2nd. Let’s make PMS something to look forward to!!
URL:https://oscarcarlvineyard.com/event/pop-up-monday-shopping-holiday-edition-pms-12-2-2024/
LOCATION:Oscar Carl Vineyard\, 1473 Buchanan Ave\, Sioux City\, IA\, 51106\, United States
CATEGORIES:Ladies Night Out
ATTACH;FMTTYPE=image/png:https://oscarcarlvineyard.com/wp-content/uploads/2024/11/Рop-Up-Monday-Shopping-12.2.2024.png
END:VEVENT
END:VCALENDAR