BEGIN:VCALENDAR
VERSION:2.0
PRODID:-//Oscar Carl Vineyard - ECPv6.15.20//NONSGML v1.0//EN
CALSCALE:GREGORIAN
METHOD:PUBLISH
X-WR-CALNAME:Oscar Carl Vineyard
X-ORIGINAL-URL:https://oscarcarlvineyard.com
X-WR-CALDESC:Events for Oscar Carl Vineyard
REFRESH-INTERVAL;VALUE=DURATION:PT1H
X-Robots-Tag:noindex
X-PUBLISHED-TTL:PT1H
BEGIN:VTIMEZONE
TZID:America/Chicago
BEGIN:DAYLIGHT
TZOFFSETFROM:-0600
TZOFFSETTO:-0500
TZNAME:CDT
DTSTART:20220313T080000
END:DAYLIGHT
BEGIN:STANDARD
TZOFFSETFROM:-0500
TZOFFSETTO:-0600
TZNAME:CST
DTSTART:20221106T070000
END:STANDARD
BEGIN:DAYLIGHT
TZOFFSETFROM:-0600
TZOFFSETTO:-0500
TZNAME:CDT
DTSTART:20230312T080000
END:DAYLIGHT
BEGIN:STANDARD
TZOFFSETFROM:-0500
TZOFFSETTO:-0600
TZNAME:CST
DTSTART:20231105T070000
END:STANDARD
BEGIN:DAYLIGHT
TZOFFSETFROM:-0600
TZOFFSETTO:-0500
TZNAME:CDT
DTSTART:20240310T080000
END:DAYLIGHT
BEGIN:STANDARD
TZOFFSETFROM:-0500
TZOFFSETTO:-0600
TZNAME:CST
DTSTART:20241103T070000
END:STANDARD
BEGIN:DAYLIGHT
TZOFFSETFROM:-0600
TZOFFSETTO:-0500
TZNAME:CDT
DTSTART:20250309T080000
END:DAYLIGHT
BEGIN:STANDARD
TZOFFSETFROM:-0500
TZOFFSETTO:-0600
TZNAME:CST
DTSTART:20251102T070000
END:STANDARD
BEGIN:DAYLIGHT
TZOFFSETFROM:-0600
TZOFFSETTO:-0500
TZNAME:CDT
DTSTART:20260308T080000
END:DAYLIGHT
BEGIN:STANDARD
TZOFFSETFROM:-0500
TZOFFSETTO:-0600
TZNAME:CST
DTSTART:20261101T070000
END:STANDARD
BEGIN:DAYLIGHT
TZOFFSETFROM:-0600
TZOFFSETTO:-0500
TZNAME:CDT
DTSTART:20270314T080000
END:DAYLIGHT
BEGIN:STANDARD
TZOFFSETFROM:-0500
TZOFFSETTO:-0600
TZNAME:CST
DTSTART:20271107T070000
END:STANDARD
END:VTIMEZONE
BEGIN:VEVENT
DTSTART;TZID=America/Chicago:20260417T180000
DTEND;TZID=America/Chicago:20260417T200000
DTSTAMP:20260423T110442
CREATED:20260401T232139Z
LAST-MODIFIED:20260403T192507Z
UID:4232-1776448800-1776456000@oscarcarlvineyard.com
SUMMARY:Cozy Confessional - A Blind Wine Tasting with Oscar Carl's Winemaker **SOLD OUT** 4.17.2026
DESCRIPTION:**This event is SOLD OUT! Watch for our next Cozy Confessional happening soon!** \nIn a world of constant noise and filtered perfections\, when was the last time you sat in the quiet and simply told the truth? \nOn April 17th\, we’re opening the heavy doors of The Board Room for an evening that strips away the pretension of the wine world. The Cozy Confessional is not your standard wine tasting. It’s a night designed for the curious\, the introspective\, and the honest. It’s for those who believe that the best stories are told in low light\, and the best wines are the ones we judge with our palates\, not our eyes. \nThe evening centers on tastings of five premium wines\, but there’s a twist: Every bottle is a secret. Upon arrival\, you will find your seat at our communal table\, where each bottle is shrouded in a paper sleeve. No labels and no expectations. By removing the visual cues of a certain bottle\, we allow the wine to speak for itself. You’ll be challenged to describe what you taste—not what you think you should taste. \nIs it bold? Is it bright? Does it remind you of a specific memory or a certain season? \nThe Confession: Honest Conversation \nWhile the wine remains hidden\, our guests are encouraged to be open. Alongside your tasting\, you will receive A Winetasting Journal. \nWhether you come with a partner\, a close friend\, or arrive solo to join our communal table\, the goal is to leave the Board Room feeling more connected than when you entered. \nThe Pairing: Savory & Sweet \nTo complement the mysterious nature of the wines\, we have curated a “Savory & Sweet” pairing plate. We focus on how certain pairings transform the hidden profiles of the wine. \nThe Take-Away \nThe night concludes with the “Great Unveiling.” One by one\, we will remove the paper sleeves\, revealing the identities of the wines you’ve spent the evening getting to know. You may find a new favorite you never would have chosen\, or realize that your palate has a mind of its own. \nTicket Includes: \n\n🍷 The Secret Pours: 5 premium tasting pours\, blind-tasted in paper sleeves. Finish the evening with a glass of your favorite.\n🕯️ The Setting: Guaranteed seating in the exclusive\, candlelit Board Room.\n📓 The Confessional Journal: A keepsake Winetasting Journal of tasting notes and honest prompts.\n🧀 Savory & Sweet Pairing: A curated pairing of savory and sweet treats.\n\nDue to the intimate nature of the Board Room\, limited tickets are available. Secure your seat at the table and prepare to tell the truth! \nGet your tickets here!
URL:https://oscarcarlvineyard.com/event/cozy-confessional-a-blind-wine-tasting-with-oscar-carls-winemaker-4-17-2026/
LOCATION:Oscar Carl Vineyard\, 1473 Buchanan Ave\, Sioux City\, IA\, 51106\, United States
CATEGORIES:Food & Wine Pairing,Wine tasting
ATTACH;FMTTYPE=image/jpeg:https://oscarcarlvineyard.com/wp-content/uploads/2026/02/Cozy-Confessional-1-scaled.jpg
END:VEVENT
BEGIN:VEVENT
DTSTART;TZID=America/Chicago:20231025T170000
DTEND;TZID=America/Chicago:20231025T210000
DTSTAMP:20260423T110442
CREATED:20230916T003102Z
LAST-MODIFIED:20231007T194123Z
UID:2775-1698253200-1698267600@oscarcarlvineyard.com
SUMMARY:Five Course Wine Pairing - Fall Harvest Tour by Chef Clay & Vintner Roy 10.25.2023
DESCRIPTION:Join us at Oscar Carl Vineyard on Wednesday\, October 25th\, for an exclusive wine pairing event featuring renowned Chef Clay and esteemed Vintner Roy\, beautifully staged in the amazing Vineyard View of Oscar Carl Vineyard. Get your tickets here! \nSavor an exquisite evening of culinary delights meticulously paired with the finest wines from Oscar Carl Vineyard. Immerse yourself in the art of wine tasting as Vintner Roy shares his insights and stories behind each carefully selected vintage. Chef Clay and his team will captivate your taste buds with a specially crafted menu\, thoughtfully designed to perfectly complement the unique flavors of each wine. \nDon’t miss out on this unforgettable tasteful experience\, all set in the lovely Vineyard View of Oscar Carl!
URL:https://oscarcarlvineyard.com/event/fall-harvest-tour-by-chef-clay-vintner-roy-10-25-2023/
LOCATION:Oscar Carl Vineyard\, 1473 Buchanan Ave\, Sioux City\, IA\, 51106\, United States
CATEGORIES:Food & Wine Pairing
ATTACH;FMTTYPE=image/jpeg:https://oscarcarlvineyard.com/wp-content/uploads/2023/09/SMASH-5-Course-Fall-Harvest-10.25.2023.jpg
END:VEVENT
BEGIN:VEVENT
DTSTART;TZID=America/Chicago:20230726T170000
DTEND;TZID=America/Chicago:20230726T210000
DTSTAMP:20260423T110442
CREATED:20230711T170216Z
LAST-MODIFIED:20230719T173313Z
UID:2723-1690390800-1690405200@oscarcarlvineyard.com
SUMMARY:Five Course Wine Pairing - Mediterranean Tour by Chef Clay & Vintner Roy *Sold Out*
DESCRIPTION:Five Course Wine Pairing – Mediterranean Tour by Chef Clay & Vintner Roy \nPurchase your tickets here! \nJoin us for an unforgettable evening of culinary delight as Chef Clay and Vintner Roy take you on a Mediterranean tour through five exquisite courses paired with the finest Oscar Carl Vineyard wines. Get ready to embark on an epicurian journey that will transport your taste buds to the sun-kissed shores of the Mediterranean. \nTime: 5PM Seating | 6PM Service  \nIndulge in a menu carefully curated by Chef Clay that showcases the vibrant flavors and traditional dishes of the Mediterranean region. Each course will be expertly paired with hand-selected Oscar Carl Vineyard wines by Vintner Roy\, enhancing the flavors and creating a harmonious dining experience. \nWhether you’re a seasoned foodie or simply looking for a unique culinary experience\, this event is not to be missed. Immerse yourself in the rich flavors and aromas of the Mediterranean\, while enjoying the company of fellow food enthusiasts in the relaxed and intimate setting of the Vineyard View at Oscar Carl. \nSpaces are limited\, so make sure to secure your spot for this exclusive event. Come and discover the magic of the Mediterranean through a Five Course Wine Pairing journey like no other.
URL:https://oscarcarlvineyard.com/event/five-course-wine-pairing-mediterranean-tour-by-chef-clay-vintner-roy/
LOCATION:Oscar Carl Vineyard\, 1473 Buchanan Ave\, Sioux City\, IA\, 51106\, United States
CATEGORIES:Food & Wine Pairing
END:VEVENT
END:VCALENDAR