BEGIN:VCALENDAR
VERSION:2.0
PRODID:-//Oscar Carl Vineyard - ECPv6.15.20//NONSGML v1.0//EN
CALSCALE:GREGORIAN
METHOD:PUBLISH
X-WR-CALNAME:Oscar Carl Vineyard
X-ORIGINAL-URL:https://oscarcarlvineyard.com
X-WR-CALDESC:Events for Oscar Carl Vineyard
REFRESH-INTERVAL;VALUE=DURATION:PT1H
X-Robots-Tag:noindex
X-PUBLISHED-TTL:PT1H
BEGIN:VTIMEZONE
TZID:America/Chicago
BEGIN:DAYLIGHT
TZOFFSETFROM:-0600
TZOFFSETTO:-0500
TZNAME:CDT
DTSTART:20220313T080000
END:DAYLIGHT
BEGIN:STANDARD
TZOFFSETFROM:-0500
TZOFFSETTO:-0600
TZNAME:CST
DTSTART:20221106T070000
END:STANDARD
BEGIN:DAYLIGHT
TZOFFSETFROM:-0600
TZOFFSETTO:-0500
TZNAME:CDT
DTSTART:20230312T080000
END:DAYLIGHT
BEGIN:STANDARD
TZOFFSETFROM:-0500
TZOFFSETTO:-0600
TZNAME:CST
DTSTART:20231105T070000
END:STANDARD
BEGIN:DAYLIGHT
TZOFFSETFROM:-0600
TZOFFSETTO:-0500
TZNAME:CDT
DTSTART:20240310T080000
END:DAYLIGHT
BEGIN:STANDARD
TZOFFSETFROM:-0500
TZOFFSETTO:-0600
TZNAME:CST
DTSTART:20241103T070000
END:STANDARD
END:VTIMEZONE
BEGIN:VEVENT
DTSTART;TZID=America/Chicago:20230713T160000
DTEND;TZID=America/Chicago:20230713T200000
DTSTAMP:20260423T205059
CREATED:20230626T221333Z
LAST-MODIFIED:20230626T223123Z
UID:2662-1689264000-1689278400@oscarcarlvineyard.com
SUMMARY:SMASH Food Trailer 7.13.2023
DESCRIPTION:SMASH by Chef Clay – an experience to experience!!
URL:https://oscarcarlvineyard.com/event/smash-food-trailer/
LOCATION:Oscar Carl Vineyard\, 1473 Buchanan Ave\, Sioux City\, IA\, 51106\, United States
CATEGORIES:Food Truck
ATTACH;FMTTYPE=image/jpeg:https://oscarcarlvineyard.com/wp-content/uploads/2023/06/SMASH-Food-Trailer.jpg
END:VEVENT
BEGIN:VEVENT
DTSTART;TZID=America/Chicago:20230707T170000
DTEND;TZID=America/Chicago:20230707T200000
DTSTAMP:20260423T205059
CREATED:20230626T220618Z
LAST-MODIFIED:20230626T223328Z
UID:2656-1688749200-1688760000@oscarcarlvineyard.com
SUMMARY:Malli's On Wheels Food Truck 7.7.2023
DESCRIPTION:Experience authentic Mexican food by Marianna and her family! \n 
URL:https://oscarcarlvineyard.com/event/mallis-on-wheels-food-truck/
LOCATION:Oscar Carl Vineyard\, 1473 Buchanan Ave\, Sioux City\, IA\, 51106\, United States
CATEGORIES:Food Truck
ATTACH;FMTTYPE=image/jpeg:https://oscarcarlvineyard.com/wp-content/uploads/2023/06/Mallis-On-Wheels.jpg
END:VEVENT
BEGIN:VEVENT
DTSTART;TZID=America/Chicago:20230629T160000
DTEND;TZID=America/Chicago:20230629T200000
DTSTAMP:20260423T205059
CREATED:20230626T223547Z
LAST-MODIFIED:20230626T223547Z
UID:2645-1688054400-1688068800@oscarcarlvineyard.com
SUMMARY:The Corn Dog Company Food Truck 6.29.2023
DESCRIPTION:What pairs with Loesscato or a Mango wine slushy? The famous Honeydog from “The Corn Dog Company!” \n 
URL:https://oscarcarlvineyard.com/event/the-corn-dog-company-food-truck-6-29-2023/
LOCATION:Oscar Carl Vineyard\, 1473 Buchanan Ave\, Sioux City\, IA\, 51106\, United States
CATEGORIES:Food Truck
ATTACH;FMTTYPE=image/jpeg:https://oscarcarlvineyard.com/wp-content/uploads/2023/06/The-Corn-Dog-Company.jpg
END:VEVENT
END:VCALENDAR