BEGIN:VCALENDAR
VERSION:2.0
PRODID:-//Oscar Carl Vineyard - ECPv6.15.20//NONSGML v1.0//EN
CALSCALE:GREGORIAN
METHOD:PUBLISH
X-ORIGINAL-URL:https://oscarcarlvineyard.com
X-WR-CALDESC:Events for Oscar Carl Vineyard
REFRESH-INTERVAL;VALUE=DURATION:PT1H
X-Robots-Tag:noindex
X-PUBLISHED-TTL:PT1H
BEGIN:VTIMEZONE
TZID:America/Chicago
BEGIN:DAYLIGHT
TZOFFSETFROM:-0600
TZOFFSETTO:-0500
TZNAME:CDT
DTSTART:20240310T080000
END:DAYLIGHT
BEGIN:STANDARD
TZOFFSETFROM:-0500
TZOFFSETTO:-0600
TZNAME:CST
DTSTART:20241103T070000
END:STANDARD
BEGIN:DAYLIGHT
TZOFFSETFROM:-0600
TZOFFSETTO:-0500
TZNAME:CDT
DTSTART:20250309T080000
END:DAYLIGHT
BEGIN:STANDARD
TZOFFSETFROM:-0500
TZOFFSETTO:-0600
TZNAME:CST
DTSTART:20251102T070000
END:STANDARD
BEGIN:DAYLIGHT
TZOFFSETFROM:-0600
TZOFFSETTO:-0500
TZNAME:CDT
DTSTART:20260308T080000
END:DAYLIGHT
BEGIN:STANDARD
TZOFFSETFROM:-0500
TZOFFSETTO:-0600
TZNAME:CST
DTSTART:20261101T070000
END:STANDARD
BEGIN:DAYLIGHT
TZOFFSETFROM:-0600
TZOFFSETTO:-0500
TZNAME:CDT
DTSTART:20270314T080000
END:DAYLIGHT
BEGIN:STANDARD
TZOFFSETFROM:-0500
TZOFFSETTO:-0600
TZNAME:CST
DTSTART:20271107T070000
END:STANDARD
END:VTIMEZONE
BEGIN:VEVENT
DTSTART;TZID=America/Chicago:20250710T160000
DTEND;TZID=America/Chicago:20250710T200000
DTSTAMP:20260425T064405
CREATED:20250705T162913Z
LAST-MODIFIED:20250705T162913Z
UID:3748-1752163200-1752177600@oscarcarlvineyard.com
SUMMARY:Chazz’s Smoke Shack 7.10.2025
DESCRIPTION:Holy Smoke!  We’re excited to host this award-winning BBQ team – back again the 2nd week in a row! How’d we get so lucky!!  What wine will you pair with your choice? Small Town BBQ\, Big Time Flavor! Old fashioned stick burned BBQ. Come and getcha some!
URL:https://oscarcarlvineyard.com/event/chazzs-smoke-shack-7-10-2025/
LOCATION:Oscar Carl Vineyard\, 1473 Buchanan Ave\, Sioux City\, IA\, 51106\, United States
CATEGORIES:Food Truck
ATTACH;FMTTYPE=image/jpeg:https://oscarcarlvineyard.com/wp-content/uploads/2025/03/Chazzs-Smoke-Shack-Logo-Color.jpg
END:VEVENT
BEGIN:VEVENT
DTSTART;TZID=America/Chicago:20250717T160000
DTEND;TZID=America/Chicago:20250717T200000
DTSTAMP:20260425T064405
CREATED:20250705T163616Z
LAST-MODIFIED:20250705T163616Z
UID:3752-1752768000-1752782400@oscarcarlvineyard.com
SUMMARY:SMASH Food Trailer 7.17.2025
DESCRIPTION:SMASH by Chef Clay – an experience to experience!!
URL:https://oscarcarlvineyard.com/event/smash-food-trailer-7-17-2025/
LOCATION:Oscar Carl Vineyard\, 1473 Buchanan Ave\, Sioux City\, IA\, 51106\, United States
CATEGORIES:Food Truck
ATTACH;FMTTYPE=image/jpeg:https://oscarcarlvineyard.com/wp-content/uploads/2023/06/SMASH-Food-Trailer.jpg
END:VEVENT
BEGIN:VEVENT
DTSTART;TZID=America/Chicago:20250724T160000
DTEND;TZID=America/Chicago:20250724T200000
DTSTAMP:20260425T064405
CREATED:20250712T222521Z
LAST-MODIFIED:20250712T222521Z
UID:3790-1753372800-1753387200@oscarcarlvineyard.com
SUMMARY:Chazz's Smoke Shack 7.24.2025
DESCRIPTION:Holy Smoke!  We’re excited to host this award-winning BBQ team – again!! They always come through!!  What wine will you pair with your choice? Small Town BBQ\, Big Time Flavor! Old fashioned stick burned BBQ. And now “Chicken Bombs!!” Come and getcha some!
URL:https://oscarcarlvineyard.com/event/chazzs-smoke-shack-7-24-2025/
LOCATION:Oscar Carl Vineyard\, 1473 Buchanan Ave\, Sioux City\, IA\, 51106\, United States
CATEGORIES:Food Truck
ATTACH;FMTTYPE=image/jpeg:https://oscarcarlvineyard.com/wp-content/uploads/2025/03/Chazzs-Smoke-Shack-Logo-Color.jpg
END:VEVENT
BEGIN:VEVENT
DTSTART;TZID=America/Chicago:20250807T160000
DTEND;TZID=America/Chicago:20250807T200000
DTSTAMP:20260425T064405
CREATED:20250705T170118Z
LAST-MODIFIED:20250705T170118Z
UID:3762-1754582400-1754596800@oscarcarlvineyard.com
SUMMARY:Woudstra Market Food Truck 8.7.2025
DESCRIPTION:This amazing Food Truck from Orange City\, Iowa\, specializes in BBQ pulled pork\, brisket\, mac & cheese\, bratwurst\, and the most amazing loaded baked potatoes!!! (Pronounced WOW-d-stra – you’ll be saying Wow! What great food!)
URL:https://oscarcarlvineyard.com/event/woudstra-market-food-truck-8-7-2025/
LOCATION:Oscar Carl Vineyard\, 1473 Buchanan Ave\, Sioux City\, IA\, 51106\, United States
CATEGORIES:Food Truck
ATTACH;FMTTYPE=image/jpeg:https://oscarcarlvineyard.com/wp-content/uploads/2024/03/Woudstra-Market-Food-Trailer.jpg
END:VEVENT
BEGIN:VEVENT
DTSTART;TZID=America/Chicago:20250814T160000
DTEND;TZID=America/Chicago:20250814T200000
DTSTAMP:20260425T064405
CREATED:20250705T170312Z
LAST-MODIFIED:20250705T170312Z
UID:3764-1755187200-1755201600@oscarcarlvineyard.com
SUMMARY:Heartland Coffee & Nosh 8.14.2025
DESCRIPTION:We love it when Heartland Coffee & Nosh comes to Oscar Carl! They’ve always got something great that pairs perfectly with our wines!
URL:https://oscarcarlvineyard.com/event/heartland-coffee-nosh-8-14-2025/
LOCATION:Oscar Carl Vineyard\, 1473 Buchanan Ave\, Sioux City\, IA\, 51106\, United States
CATEGORIES:Food Truck
ATTACH;FMTTYPE=image/jpeg:https://oscarcarlvineyard.com/wp-content/uploads/2025/06/Heartland-Coffee-Nosh-at-OCV-scaled.jpg
END:VEVENT
BEGIN:VEVENT
DTSTART;TZID=America/Chicago:20250821T160000
DTEND;TZID=America/Chicago:20250821T200000
DTSTAMP:20260425T064405
CREATED:20250705T164104Z
LAST-MODIFIED:20250705T164104Z
UID:3754-1755792000-1755806400@oscarcarlvineyard.com
SUMMARY:SMASH Food Trailer 8.21.2025
DESCRIPTION:SMASH by Chef Clay – an experience to experience!!
URL:https://oscarcarlvineyard.com/event/smash-food-trailer-8-21-2025/
LOCATION:Oscar Carl Vineyard\, 1473 Buchanan Ave\, Sioux City\, IA\, 51106\, United States
CATEGORIES:Food Truck
ATTACH;FMTTYPE=image/jpeg:https://oscarcarlvineyard.com/wp-content/uploads/2023/06/SMASH-Food-Trailer.jpg
END:VEVENT
BEGIN:VEVENT
DTSTART;TZID=America/Chicago:20250828T160000
DTEND;TZID=America/Chicago:20250828T200000
DTSTAMP:20260425T064405
CREATED:20250705T171606Z
LAST-MODIFIED:20250705T171637Z
UID:3766-1756396800-1756411200@oscarcarlvineyard.com
SUMMARY:Heartland Coffee & Nosh 8.28.2025
DESCRIPTION:We love it when Heartland Coffee & Nosh comes to Oscar Carl! They’ve always got something great that pairs perfectly with our wines!
URL:https://oscarcarlvineyard.com/event/heartland-coffee-nosh-8-28-2025/
LOCATION:Oscar Carl Vineyard\, 1473 Buchanan Ave\, Sioux City\, IA\, 51106\, United States
CATEGORIES:Food Truck
ATTACH;FMTTYPE=image/jpeg:https://oscarcarlvineyard.com/wp-content/uploads/2025/06/Heartland-Coffee-Nosh-at-OCV-scaled.jpg
END:VEVENT
BEGIN:VEVENT
DTSTART;TZID=America/Chicago:20250904T160000
DTEND;TZID=America/Chicago:20250904T200000
DTSTAMP:20260425T064405
CREATED:20250705T171857Z
LAST-MODIFIED:20250705T171857Z
UID:3769-1757001600-1757016000@oscarcarlvineyard.com
SUMMARY:Heartland Coffee & Nosh 9.4.2025
DESCRIPTION:We love it when Heartland Coffee & Nosh comes to Oscar Carl! They’ve always got something great that pairs perfectly with our wines!
URL:https://oscarcarlvineyard.com/event/heartland-coffee-nosh-9-4-2025/
LOCATION:Oscar Carl Vineyard\, 1473 Buchanan Ave\, Sioux City\, IA\, 51106\, United States
CATEGORIES:Food Truck
ATTACH;FMTTYPE=image/jpeg:https://oscarcarlvineyard.com/wp-content/uploads/2025/06/Heartland-Coffee-Nosh-at-OCV-scaled.jpg
END:VEVENT
BEGIN:VEVENT
DTSTART;TZID=America/Chicago:20250911T160000
DTEND;TZID=America/Chicago:20250911T200000
DTSTAMP:20260425T064405
CREATED:20250705T172137Z
LAST-MODIFIED:20250705T172137Z
UID:3771-1757606400-1757620800@oscarcarlvineyard.com
SUMMARY:Heartland Coffee & Nosh 9.11.2025
DESCRIPTION:We love it when Heartland Coffee & Nosh comes to Oscar Carl! Especially 3 weeks in a row!! They’ve always got something great that pairs perfectly with our wines!
URL:https://oscarcarlvineyard.com/event/heartland-coffee-nosh-9-11-2025/
LOCATION:Oscar Carl Vineyard\, 1473 Buchanan Ave\, Sioux City\, IA\, 51106\, United States
CATEGORIES:Food Truck
ATTACH;FMTTYPE=image/jpeg:https://oscarcarlvineyard.com/wp-content/uploads/2025/06/Heartland-Coffee-Nosh-at-OCV-scaled.jpg
END:VEVENT
BEGIN:VEVENT
DTSTART;TZID=America/Chicago:20250918T160000
DTEND;TZID=America/Chicago:20250918T200000
DTSTAMP:20260425T064405
CREATED:20250705T165112Z
LAST-MODIFIED:20250705T165112Z
UID:3756-1758211200-1758225600@oscarcarlvineyard.com
SUMMARY:SMASH Food Trailer 9.18.2025
DESCRIPTION:SMASH by Chef Clay – an experience to experience!!
URL:https://oscarcarlvineyard.com/event/smash-food-trailer-9-18-2025/
LOCATION:Oscar Carl Vineyard\, 1473 Buchanan Ave\, Sioux City\, IA\, 51106\, United States
CATEGORIES:Food Truck
ATTACH;FMTTYPE=image/jpeg:https://oscarcarlvineyard.com/wp-content/uploads/2023/06/SMASH-Food-Trailer.jpg
END:VEVENT
BEGIN:VEVENT
DTSTART;TZID=America/Chicago:20250925T160000
DTEND;TZID=America/Chicago:20250925T200000
DTSTAMP:20260425T064405
CREATED:20250705T163305Z
LAST-MODIFIED:20250705T163305Z
UID:3750-1758816000-1758830400@oscarcarlvineyard.com
SUMMARY:Chazz's Smoke Shack 9.25.2025
DESCRIPTION:Holy Smoke!  We’re excited to host this award-winning BBQ team!  What wine will you pair with your choice? Small Town BBQ\, Big Time Flavor! Old fashioned stick burned BBQ. Come and getcha some!
URL:https://oscarcarlvineyard.com/event/chazzs-smoke-shack-9-25-2025/
LOCATION:Oscar Carl Vineyard\, 1473 Buchanan Ave\, Sioux City\, IA\, 51106\, United States
CATEGORIES:Food Truck
ATTACH;FMTTYPE=image/jpeg:https://oscarcarlvineyard.com/wp-content/uploads/2025/03/Chazzs-Smoke-Shack-Logo-Color.jpg
END:VEVENT
BEGIN:VEVENT
DTSTART;TZID=America/Chicago:20260402T160000
DTEND;TZID=America/Chicago:20260402T200000
DTSTAMP:20260425T064405
CREATED:20260401T211931Z
LAST-MODIFIED:20260401T211931Z
UID:4224-1775145600-1775160000@oscarcarlvineyard.com
SUMMARY:Food Truck Thursday - 2 Fire Smash Burgers 4.2.2026
DESCRIPTION:We are kicking off food truck season with 2 Fire Smash Burgers! Come try a Flaming Hot Cheeto burger paired with our mango slushy! Or\, try my favorite\, a delicious bacon cheese burger with onion rings paired with a glass of Number Ten! Be sure to join us between 4-8 Thursday!
URL:https://oscarcarlvineyard.com/event/food-truck-thursday-2-fire-smash-burgers-4-2-2026/
LOCATION:Oscar Carl Vineyard\, 1473 Buchanan Ave\, Sioux City\, IA\, 51106\, United States
CATEGORIES:Food Truck
ATTACH;FMTTYPE=image/jpeg:https://oscarcarlvineyard.com/wp-content/uploads/2026/04/2-Fire-Smash-Burgers-Logo.jpg
END:VEVENT
BEGIN:VEVENT
DTSTART;TZID=America/Chicago:20260409T160000
DTEND;TZID=America/Chicago:20260409T200000
DTSTAMP:20260425T064405
CREATED:20260408T213056Z
LAST-MODIFIED:20260408T213056Z
UID:4246-1775750400-1775764800@oscarcarlvineyard.com
SUMMARY:Heartland Coffee & Nosh Food Truck 4.9.2026
DESCRIPTION:We’re excited to welcome Heartland Coffee & Nosh back! They never disappoint!! Come try a Fajita Steak Nosh Bowl\, add black beans and pair it with a glass of Loesscato or hard cider! Cheers!
URL:https://oscarcarlvineyard.com/event/heartland-coffee-nosh-food-truck-4-9-2026/
LOCATION:Oscar Carl Vineyard\, 1473 Buchanan Ave\, Sioux City\, IA\, 51106\, United States
CATEGORIES:Food Truck
ATTACH;FMTTYPE=image/jpeg:https://oscarcarlvineyard.com/wp-content/uploads/2026/04/Heartland-Coffee-Nosh-at-OCV.jpg
END:VEVENT
BEGIN:VEVENT
DTSTART;TZID=America/Chicago:20260416T160000
DTEND;TZID=America/Chicago:20260416T200000
DTSTAMP:20260425T064405
CREATED:20260408T223050Z
LAST-MODIFIED:20260408T223050Z
UID:4250-1776355200-1776369600@oscarcarlvineyard.com
SUMMARY:2 Fire Smash Burgers Food Trailer 4.16.2026
DESCRIPTION:2 Fire Smash Burgers! Come try a Flaming Hot Cheeto burger paired with our mango slushy! Or\, try my favorite\, a delicious bacon cheese burger with onion rings paired with a glass of Number Ten! Be sure to join us between 4-8 Thursday!
URL:https://oscarcarlvineyard.com/event/2-fire-smash-burgers-food-trailer-4-16-2026/
LOCATION:Oscar Carl Vineyard\, 1473 Buchanan Ave\, Sioux City\, IA\, 51106\, United States
CATEGORIES:Food Truck
ATTACH;FMTTYPE=image/jpeg:https://oscarcarlvineyard.com/wp-content/uploads/2026/04/2-Fire-Smash-Burgers-Logo.jpg
END:VEVENT
END:VCALENDAR