BEGIN:VCALENDAR
VERSION:2.0
PRODID:-//Oscar Carl Vineyard - ECPv6.15.20//NONSGML v1.0//EN
CALSCALE:GREGORIAN
METHOD:PUBLISH
X-WR-CALNAME:Oscar Carl Vineyard
X-ORIGINAL-URL:https://oscarcarlvineyard.com
X-WR-CALDESC:Events for Oscar Carl Vineyard
REFRESH-INTERVAL;VALUE=DURATION:PT1H
X-Robots-Tag:noindex
X-PUBLISHED-TTL:PT1H
BEGIN:VTIMEZONE
TZID:America/Chicago
BEGIN:DAYLIGHT
TZOFFSETFROM:-0600
TZOFFSETTO:-0500
TZNAME:CDT
DTSTART:20230312T080000
END:DAYLIGHT
BEGIN:STANDARD
TZOFFSETFROM:-0500
TZOFFSETTO:-0600
TZNAME:CST
DTSTART:20231105T070000
END:STANDARD
BEGIN:DAYLIGHT
TZOFFSETFROM:-0600
TZOFFSETTO:-0500
TZNAME:CDT
DTSTART:20240310T080000
END:DAYLIGHT
BEGIN:STANDARD
TZOFFSETFROM:-0500
TZOFFSETTO:-0600
TZNAME:CST
DTSTART:20241103T070000
END:STANDARD
BEGIN:DAYLIGHT
TZOFFSETFROM:-0600
TZOFFSETTO:-0500
TZNAME:CDT
DTSTART:20250309T080000
END:DAYLIGHT
BEGIN:STANDARD
TZOFFSETFROM:-0500
TZOFFSETTO:-0600
TZNAME:CST
DTSTART:20251102T070000
END:STANDARD
END:VTIMEZONE
BEGIN:VEVENT
DTSTART;TZID=America/Chicago:20240411T160000
DTEND;TZID=America/Chicago:20240411T200000
DTSTAMP:20260424T213453
CREATED:20240409T232654Z
LAST-MODIFIED:20240409T232654Z
UID:3093-1712851200-1712865600@oscarcarlvineyard.com
SUMMARY:Woudstra Market Food Truck 4.11.2024
DESCRIPTION:This amazing Food Truck from Orange City\, Iowa\, specializes in BBQ pulled pork\, brisket\, mac & cheese\, bratwurst\, and the most amazing loaded baked potatoes!!! (Pronounced WOW-d-stra – you’ll be saying Wow! What great food!)
URL:https://oscarcarlvineyard.com/event/woudstra-market-food-truck-4-11-2024/
LOCATION:Oscar Carl Vineyard\, 1473 Buchanan Ave\, Sioux City\, IA\, 51106\, United States
CATEGORIES:Food Truck
ATTACH;FMTTYPE=image/jpeg:https://oscarcarlvineyard.com/wp-content/uploads/2024/03/Woudstra-Market-Food-Trailer.jpg
END:VEVENT
BEGIN:VEVENT
DTSTART;TZID=America/Chicago:20240418T160000
DTEND;TZID=America/Chicago:20240418T200000
DTSTAMP:20260424T213453
CREATED:20240409T234709Z
LAST-MODIFIED:20240409T234709Z
UID:3100-1713456000-1713470400@oscarcarlvineyard.com
SUMMARY:SMASH Food Trailer 4.18.2024
DESCRIPTION:SMASH by Chef Clay – an experience to experience!! The garlic fries are so delish!!! Be sure to check out what’s new!! You’ll love it!!
URL:https://oscarcarlvineyard.com/event/smash-food-trailer-4-18-2024/
LOCATION:Oscar Carl Vineyard\, 1473 Buchanan Ave\, Sioux City\, IA\, 51106\, United States
CATEGORIES:Food Truck
ATTACH;FMTTYPE=image/jpeg:https://oscarcarlvineyard.com/wp-content/uploads/2023/06/SMASH-Food-Trailer.jpg
END:VEVENT
BEGIN:VEVENT
DTSTART;TZID=America/Chicago:20240425T160000
DTEND;TZID=America/Chicago:20240425T200000
DTSTAMP:20260424T213453
CREATED:20240418T232457Z
LAST-MODIFIED:20240425T220152Z
UID:3127-1714060800-1714075200@oscarcarlvineyard.com
SUMMARY:*Cancelled*The Leaf Grill & Wokery Food Truck 4.25.2024 *Cancelled*
DESCRIPTION:We’re so sorry\, but we will not be able to host “The Leaf Grill & Wokery” tonight. \n 
URL:https://oscarcarlvineyard.com/event/the-leaf-grill-wokery-food-truck-4-25-2024/
LOCATION:Oscar Carl Vineyard\, 1473 Buchanan Ave\, Sioux City\, IA\, 51106\, United States
CATEGORIES:Food Truck
ATTACH;FMTTYPE=image/jpeg:https://oscarcarlvineyard.com/wp-content/uploads/2024/04/The-Leaf-Grill-Wokery.jpg
END:VEVENT
END:VCALENDAR