BEGIN:VCALENDAR
VERSION:2.0
PRODID:-//Oscar Carl Vineyard - ECPv6.15.20//NONSGML v1.0//EN
CALSCALE:GREGORIAN
METHOD:PUBLISH
X-ORIGINAL-URL:https://oscarcarlvineyard.com
X-WR-CALDESC:Events for Oscar Carl Vineyard
REFRESH-INTERVAL;VALUE=DURATION:PT1H
X-Robots-Tag:noindex
X-PUBLISHED-TTL:PT1H
BEGIN:VTIMEZONE
TZID:America/Chicago
BEGIN:DAYLIGHT
TZOFFSETFROM:-0600
TZOFFSETTO:-0500
TZNAME:CDT
DTSTART:20220313T080000
END:DAYLIGHT
BEGIN:STANDARD
TZOFFSETFROM:-0500
TZOFFSETTO:-0600
TZNAME:CST
DTSTART:20221106T070000
END:STANDARD
BEGIN:DAYLIGHT
TZOFFSETFROM:-0600
TZOFFSETTO:-0500
TZNAME:CDT
DTSTART:20230312T080000
END:DAYLIGHT
BEGIN:STANDARD
TZOFFSETFROM:-0500
TZOFFSETTO:-0600
TZNAME:CST
DTSTART:20231105T070000
END:STANDARD
BEGIN:DAYLIGHT
TZOFFSETFROM:-0600
TZOFFSETTO:-0500
TZNAME:CDT
DTSTART:20240310T080000
END:DAYLIGHT
BEGIN:STANDARD
TZOFFSETFROM:-0500
TZOFFSETTO:-0600
TZNAME:CST
DTSTART:20241103T070000
END:STANDARD
BEGIN:DAYLIGHT
TZOFFSETFROM:-0600
TZOFFSETTO:-0500
TZNAME:CDT
DTSTART:20250309T080000
END:DAYLIGHT
BEGIN:STANDARD
TZOFFSETFROM:-0500
TZOFFSETTO:-0600
TZNAME:CST
DTSTART:20251102T070000
END:STANDARD
END:VTIMEZONE
BEGIN:VEVENT
DTSTART;TZID=America/Chicago:20240212T160000
DTEND;TZID=America/Chicago:20240212T200000
DTSTAMP:20260423T160624
CREATED:20240130T231317Z
LAST-MODIFIED:20240130T231317Z
UID:2984-1707753600-1707768000@oscarcarlvineyard.com
SUMMARY:Oscar Carl Vineyard 2nd Annual Galentine's Event
DESCRIPTION:Come to the winery for a fun evening of celebrating everything girlfriends! Enter the specially decorated Galentine world at Oscar Carl.  Peruse the “Grazing Table” for your favorite charcuterie including cheeses\, meats\, breads\, crackers\, fruit\, jellies\, nuts\, and chocolates\, beautifully designed by Graze – A Charcuterie Company. Choose from our “Galentine Specials” for purchase – a Mimosa Flight or a glass of our exclusive “Sangria.” Or stick to our usual fun and yummy wine slushy\, a glass (or bottle to share) of your favorite OCV wine! Or who can resist our Hot Mulled Wine! Pair all of the above with your best girlfriends\, and you’ve got the foundation for some great memory making! Participate in our “Greeting Card Challenge” and you’ll find yourself laughing so hard you’ll burn off any calories you’ve consumed (but who’s counting!!) And to top it all off\, you’ll leave with a special gift personally handmade by Melanie. Cheers to our girlfriends – old\, new\, and yet to be! \nClick here for tickets.
URL:https://oscarcarlvineyard.com/event/oscar-carl-vineyard-2nd-annual-galentines-event/
LOCATION:Oscar Carl Vineyard\, 1473 Buchanan Ave\, Sioux City\, IA\, 51106\, United States
CATEGORIES:Celebration,Ladies Night Out
ATTACH;FMTTYPE=image/png:https://oscarcarlvineyard.com/wp-content/uploads/2024/01/Galentines-2.12.2024.png
END:VEVENT
BEGIN:VEVENT
DTSTART;TZID=America/Chicago:20231231T180000
DTEND;TZID=America/Chicago:20231231T220000
DTSTAMP:20260423T160624
CREATED:20231216T214507Z
LAST-MODIFIED:20231220T183722Z
UID:2859-1704045600-1704060000@oscarcarlvineyard.com
SUMMARY:New Year's Eve Celebration & Fireworks Over the Pond "SOLD OUT!"
DESCRIPTION:Come celebrate New Year’s Eve 2023 with us at Oscar Carl Vineyard! 6-10pm Celebrating friendships – new and old! One is silver and the other gold! \nYou’ll have a reserved table for all evening. Plan to have some great conversations\, fun and laughter. Feel free to bring cards or a game to play. (We have a growing selection ourselves you can choose from!) You can even have your picture taken with Oscar and Carl! \nIn addition to our usual wine\, hot mulled wine\, domestic and craft beer\, and beverage selections\, we’ll have Melanie’s own recipe of “Hot Buttered Rum” ready for a cup of cheer. It is soooo good! Plus we’ll have chili and cinnamon rolls to warm your tummy\, too. (What wine would you pair with that?) Plus our usual food options of pizzas\, Bavarian pretzel\, cheese bites and decadent chocolate truffles in a variety of flavors. \nAt 9:30pm\, we’ll all get bundled up and gather on the patio to watch one of the best fireworks shows around! You’ll “oooo” and “ahhhh” as you watch the fantastic bursts of color as they pop and crackle over the pond. It’s your own private show! \nThen it’s your choice – head home happy and content\, or continue your evening out. Call or text 712.898.3400 to reserve your table. (No cover charge\, but reservations are required.) \nCheers to 2024!!
URL:https://oscarcarlvineyard.com/event/new-years-eve-celebration-fireworks-over-the-pond/
LOCATION:Oscar Carl Vineyard\, 1473 Buchanan Ave\, Sioux City\, IA\, 51106\, United States
CATEGORIES:Celebration,Fireworks
ATTACH;FMTTYPE=image/png:https://oscarcarlvineyard.com/wp-content/uploads/2023/12/New-Years-Eve-2024.png
END:VEVENT
BEGIN:VEVENT
DTSTART;TZID=America/Chicago:20231124T180000
DTEND;TZID=America/Chicago:20231124T180000
DTSTAMP:20260423T160624
CREATED:20231122T232107Z
LAST-MODIFIED:20231122T234107Z
UID:2846-1700848800-1700848800@oscarcarlvineyard.com
SUMMARY:Christmas Tree Lighting 11.24.2023
DESCRIPTION:Join us at 6pm on Friday\, November 24th for the lighting of our popular 12ft tall Christmas tree! We’ve got some special guests for you to meet\, & even take a photo with! Raise a glass of cheer with us! See you then!! Cheers!!
URL:https://oscarcarlvineyard.com/event/christmas-tree-lighting-12-24-2023/
LOCATION:Oscar Carl Vineyard\, 1473 Buchanan Ave\, Sioux City\, IA\, 51106\, United States
CATEGORIES:Celebration
ATTACH;FMTTYPE=image/png:https://oscarcarlvineyard.com/wp-content/uploads/2023/11/Christmas-Tree-Lighting.png
END:VEVENT
END:VCALENDAR